BEGIN:VCALENDAR
VERSION:2.0
PRODID:-//Hamburg Plumbers - ECPv6.6.1//NONSGML v1.0//EN
CALSCALE:GREGORIAN
METHOD:PUBLISH
X-ORIGINAL-URL:https://hamburg-plumbers.de
X-WR-CALDESC:Veranstaltungen für Hamburg Plumbers
REFRESH-INTERVAL;VALUE=DURATION:PT1H
X-Robots-Tag:noindex
X-PUBLISHED-TTL:PT1H
BEGIN:VTIMEZONE
TZID:Europe/Berlin
BEGIN:DAYLIGHT
TZOFFSETFROM:+0100
TZOFFSETTO:+0200
TZNAME:CEST
DTSTART:20190331T010000
END:DAYLIGHT
BEGIN:STANDARD
TZOFFSETFROM:+0200
TZOFFSETTO:+0100
TZNAME:CET
DTSTART:20191027T010000
END:STANDARD
END:VTIMEZONE
BEGIN:VEVENT
DTSTART;TZID=Europe/Berlin:20190212T070000
DTEND;TZID=Europe/Berlin:20190212T160000
DTSTAMP:20260419T224425
CREATED:20190208T115957Z
LAST-MODIFIED:20190208T115957Z
UID:2642-1549954800-1549987200@hamburg-plumbers.de
SUMMARY:Stiebel Eltron bei Peter Jensen im Abholterminal Neumünster
DESCRIPTION:Stiebel Eltron bei Peter Jensen im Abholterminal Neumünster \nAm Dienstag den 12.02.2019\, ist Stiebel Eltron ab 07.00 Uhr bei Peter Jensen in der Straße „Haart 101“ in Neumünster. Den ganzen Tag stehen Ihnen fachkundige Berater des Herstellers zum Thema „Messeneuheiten“ zur Verfügung und beantworten auch gerne alle Ihre Fragen. \n\nEröffnung des SHK-Shop Paulsen\, Abhol-Centers Rugenbarg in Norderstedt was last modified:  August 28th\, 2023 by
URL:https://hamburg-plumbers.de/veranstaltung/stiebel-eltron-bei-peter-jensen-im-abholterminal-neumuenster/
LOCATION:Peter Jensen im Abholterminal Neumünster\, Haart 101\, Nuemünster\, Schleswig-Holstein\, 24539\, Deutschland
END:VEVENT
BEGIN:VEVENT
DTSTART;TZID=Europe/Berlin:20190212T070000
DTEND;TZID=Europe/Berlin:20190212T160000
DTSTAMP:20260419T224425
CREATED:20190208T122300Z
LAST-MODIFIED:20190208T122300Z
UID:2653-1549954800-1549987200@hamburg-plumbers.de
SUMMARY:KSB bei Peter Jensen im Abholterminal Sylt
DESCRIPTION:KSB bei Peter Jensen im Abholterminal Sylt\nAm Dienstag den 12.02.2019\, ist KSB ab 07.00 Uhr bei Peter Jensen im Abholterminal im Pilotenweg 12 in Tinnum auf Sylt. Den ganzen Tag stehen Ihnen fachkundige Berater des Herstellers zum Thema „Pumpentechnik“ zur Verfügung und beantworten auch gerne alle Ihre Fragen. \n\nEröffnung des SHK-Shop Paulsen\, Abhol-Centers Rugenbarg in Norderstedt was last modified:  August 28th\, 2023 by
URL:https://hamburg-plumbers.de/veranstaltung/ksb-bei-peter-jensen-im-abholterminal-sylt/
LOCATION:Peter Jensen\, Abholterminal Sylt\, Pilotenweg 12\, Tinnum auf Sylt\, Schleswig-Holstein\, 25980\, Deutschland
END:VEVENT
BEGIN:VEVENT
DTSTART;TZID=Europe/Berlin:20190213T070000
DTEND;TZID=Europe/Berlin:20190213T160000
DTSTAMP:20260419T224425
CREATED:20190208T120316Z
LAST-MODIFIED:20190208T120345Z
UID:2644-1550041200-1550073600@hamburg-plumbers.de
SUMMARY:Atec bei Peter Jensen im Abholterminal Salzwedel
DESCRIPTION:Atec bei Peter Jensen im Abholterminal Salzwedel\nAm Mittwoch den 13.02.2019\, ist Atec ab 07.00 Uhr bei Peter Jensen im Abholterminal in der Schillerstraße 82 in Salzwedel. Den ganzen Tag stehen Ihnen fachkundige Berater des Herstellers zum Thema „Abgastechnologie“ zur Verfügung und beantworten auch gerne alle Ihre Fragen.\n  \nEröffnung des SHK-Shop Paulsen\, Abhol-Centers Rugenbarg in Norderstedt was last modified:  August 28th\, 2023 by
URL:https://hamburg-plumbers.de/veranstaltung/atec-bei-peter-jensen-im-abholterminal-salzwedel-2/
LOCATION:Peter Jensen Abholterminal – Salzwedel\, Schillerstraße 82\, Salzwedel\, Sachsen-Anhalt\, 29410\, Deutschland
END:VEVENT
BEGIN:VEVENT
DTSTART;TZID=Europe/Berlin:20190214T070000
DTEND;TZID=Europe/Berlin:20190214T160000
DTSTAMP:20260419T224425
CREATED:20190208T105346Z
LAST-MODIFIED:20190208T105346Z
UID:2624-1550127600-1550160000@hamburg-plumbers.de
SUMMARY:Stiebel Eltron bei Peter Jensen im Abholterminal Itzehoe
DESCRIPTION:Stiebel Eltron bei Peter Jensen im Abholterminal Itzehoe\nAm Donnerstag\, 14.02.2019\, ist Stiebel Eltron ab 07.00 Uhr bei Peter Jensen im Abholterminal in der Straße „Am Brookhafen 14“ in Itzehoe. Den ganzen Tag stehen Ihnen fachkundige Berater des Herstellers zum Thema „Messeneuheiten“ zur Verfügung und beantworten auch gerne alle Ihre Fragen. \nEröffnung des SHK-Shop Paulsen\, Abhol-Centers Rugenbarg in Norderstedt was last modified:  August 28th\, 2023 by
URL:https://hamburg-plumbers.de/veranstaltung/stiebel-eltron-bei-peter-jensen-im-abholterminal-itzehoe/
LOCATION:Peter Jensen Abholterminal Itzehoe\, Am Brookhafen 14\, Itzehoe \, Schleswig-Holstein \, 25524\, Deutschland
END:VEVENT
BEGIN:VEVENT
DTSTART;TZID=Europe/Berlin:20190214T070000
DTEND;TZID=Europe/Berlin:20190214T160000
DTSTAMP:20260419T224425
CREATED:20190208T111523Z
LAST-MODIFIED:20190208T111523Z
UID:2632-1550127600-1550160000@hamburg-plumbers.de
SUMMARY:Hamburger Hochdruckhydraulik bei Peter Jensen im Abholterminal Lübeck
DESCRIPTION:Hamburger Hochdruckhydraulik bei Peter Jensen im Abholterminal Lübeck\nAm Donnerstag den 14.02.2019\, ist die Firma Hamburger Hochdruckhydraulik ab 07.00 Uhr bei Peter Jensen im Abholterminal in der Straße „Bei der Gasanstalt 3a“ in Lübeck (Genin) und führt an diesem Tag Wartungen von Pressmaschinen durch. Sie beantworten auch gerne alle Ihre Fragen. \n\nEröffnung des SHK-Shop Paulsen\, Abhol-Centers Rugenbarg in Norderstedt was last modified:  August 28th\, 2023 by
URL:https://hamburg-plumbers.de/veranstaltung/hamburger-hochdruckhydraulik-bei-peter-jensen-im-abholterminal-luebeck/
LOCATION:bei Peter Jensen\, Abholterminal Lübeck\, Bei der Gasanstalt 3a\, Lübeck\, Schleswig-Holstein\, 23560\, Deutschland
END:VEVENT
BEGIN:VEVENT
DTSTART;TZID=Europe/Berlin:20190214T070000
DTEND;TZID=Europe/Berlin:20190214T160000
DTSTAMP:20260419T224425
CREATED:20190208T122951Z
LAST-MODIFIED:20190208T122951Z
UID:2657-1550127600-1550160000@hamburg-plumbers.de
SUMMARY:Seppelfricke bei Peter Jensen im Abholterminal Uelzen
DESCRIPTION:Seppelfricke bei Peter Jensen im Abholterminal Uelzen\nAm Donnerstag den 14.02.2019\, ist Seppelfricke ab 07.00 Uhr bei Peter Jensen im Abholterminal in der Straße „Im Grund 6“ in Uelzen. Den ganzen Tag stehen Ihnen fachkundige Berater des Herstellers zum Thema „aktuelles Lagerprogramm““ zur Verfügung und beantworten auch gerne alle Ihre Fragen. \n\nEröffnung des SHK-Shop Paulsen\, Abhol-Centers Rugenbarg in Norderstedt was last modified:  August 28th\, 2023 by
URL:https://hamburg-plumbers.de/veranstaltung/seppelfricke-bei-peter-jensen-im-abholterminal-uelzen/
LOCATION:Peter Jensen Abholterminal Uelzen\, Im Grund 6\, Uelzen\, Niedersachsen\,  29525 \, Deutschland
END:VEVENT
BEGIN:VEVENT
DTSTART;TZID=Europe/Berlin:20190214T070000
DTEND;TZID=Europe/Berlin:20190214T160000
DTSTAMP:20260419T224425
CREATED:20190208T123214Z
LAST-MODIFIED:20190208T123214Z
UID:2659-1550127600-1550160000@hamburg-plumbers.de
SUMMARY:Poloplast bei Peter Jensen im Abholterminal Uelzen
DESCRIPTION:Poloplast bei Peter Jensen im Abholterminal Uelzen\nAm Donnerstag den 14.02.2019\, ist Poloplast ab 07.00 Uhr bei Peter Jensen im Abholterminal in der Straße „Im Grund 6“ in Uelzen. Den ganzen Tag stehen Ihnen fachkundige Berater des Herstellers zum Thema „aktuelles Lagerprogramm““ zur Verfügung und beantworten auch gerne alle Ihre Fragen. \n\n\nEröffnung des SHK-Shop Paulsen\, Abhol-Centers Rugenbarg in Norderstedt was last modified:  August 28th\, 2023 by
URL:https://hamburg-plumbers.de/veranstaltung/poloplast-bei-peter-jensen-im-abholterminal-uelzen/
LOCATION:Peter Jensen Abholterminal Uelzen\, Im Grund 6\, Uelzen\, Niedersachsen\,  29525 \, Deutschland
END:VEVENT
BEGIN:VEVENT
DTSTART;TZID=Europe/Berlin:20190219T070000
DTEND;TZID=Europe/Berlin:20190219T160000
DTSTAMP:20260419T224425
CREATED:20190208T114122Z
LAST-MODIFIED:20190208T114122Z
UID:2634-1550559600-1550592000@hamburg-plumbers.de
SUMMARY:Stiebel Eltron bei Peter Jensen im Abholterminal Lübeck
DESCRIPTION:Stiebel Eltron bei Peter Jensen im Abholterminal Lübeck\nAm Dienstag den 19.02.2019\, ist Stiebel Eltron ab 07.00 Uhr bei Peter Jensen im Abholterminal in der Straße „Bei der Gasanstalt 3a“ in Lübeck (Genin). Den ganzen Tag stehen Ihnen fachkundige Berater des Herstellers zum Thema „Messeneuheiten“ zur Verfügung und beantworten auch gerne alle Ihre Fragen. \nEröffnung des SHK-Shop Paulsen\, Abhol-Centers Rugenbarg in Norderstedt was last modified:  August 28th\, 2023 by
URL:https://hamburg-plumbers.de/veranstaltung/stiebel-eltron-bei-peter-jensen-im-abholterminal-luebeck/
LOCATION:bei Peter Jensen\, Abholterminal Lübeck\, Bei der Gasanstalt 3a\, Lübeck\, Schleswig-Holstein\, 23560\, Deutschland
END:VEVENT
BEGIN:VEVENT
DTSTART;TZID=Europe/Berlin:20190220T070000
DTEND;TZID=Europe/Berlin:20190220T160000
DTSTAMP:20260419T224425
CREATED:20190208T105740Z
LAST-MODIFIED:20190208T105740Z
UID:2626-1550646000-1550678400@hamburg-plumbers.de
SUMMARY:KSB bei Peter Jensen im Abholterminal Itzehoe
DESCRIPTION:KSB bei Peter Jensen im Abholterminal Itzehoe\nAm Mittwoch den 20.02.2019\, ist KSB ab 07.00 Uhr bei Peter Jensen im Abholterminal in der Straße „Am Brookhafen 14“ in Itzehoe. Den ganzen Tag stehen Ihnen fachkundige Berater des Herstellers zum Thema „Pumpentechnik“ zur Verfügung und beantworten auch gerne alle Ihre Fragen. \nEröffnung des SHK-Shop Paulsen\, Abhol-Centers Rugenbarg in Norderstedt was last modified:  August 28th\, 2023 by
URL:https://hamburg-plumbers.de/veranstaltung/ksb-bei-peter-jensen-im-abholterminal-itzehoe/
LOCATION:Peter Jensen Abholterminal Itzehoe\, Am Brookhafen 14\, Itzehoe \, Schleswig-Holstein \, 25524\, Deutschland
END:VEVENT
BEGIN:VEVENT
DTSTART;TZID=Europe/Berlin:20190220T070000
DTEND;TZID=Europe/Berlin:20190220T160000
DTSTAMP:20260419T224425
CREATED:20190208T114441Z
LAST-MODIFIED:20190208T114441Z
UID:2636-1550646000-1550678400@hamburg-plumbers.de
SUMMARY:G. Bee GmbH bei Peter Jensen im Abholterminal Lübeck
DESCRIPTION:G. Bee GmbH bei Peter Jensen im Abholterminal Lübeck \nAm Mittwoch den 20.02.2019\, ist G. Bee GmbH ab 07.00 Uhr bei Peter Jensen im Abholterminal in der Straße „Bei der Gasanstalt 3a“ in Lübeck (Genin). Den ganzen Tag stehen Ihnen fachkundige Berater des Herstellers zum Thema „Kugelhähne Comfort“ zur Verfügung und beantworten auch gerne alle Ihre Fragen. \nEröffnung des SHK-Shop Paulsen\, Abhol-Centers Rugenbarg in Norderstedt was last modified:  August 28th\, 2023 by
URL:https://hamburg-plumbers.de/veranstaltung/g-bee-gmbh-bei-peter-jensen-im-abholterminal-luebeck/
LOCATION:bei Peter Jensen\, Abholterminal Lübeck\, Bei der Gasanstalt 3a\, Lübeck\, Schleswig-Holstein\, 23560\, Deutschland
END:VEVENT
BEGIN:VEVENT
DTSTART;TZID=Europe/Berlin:20190221T070000
DTEND;TZID=Europe/Berlin:20190221T160000
DTSTAMP:20260419T224425
CREATED:20190208T122551Z
LAST-MODIFIED:20190208T122551Z
UID:2655-1550732400-1550764800@hamburg-plumbers.de
SUMMARY:Stiebel Eltron bei Peter Jensen im Abholterminal Sylt
DESCRIPTION:Stiebel Eltron bei Peter Jensen im Abholterminal Sylt\nAm Donnerstag den 21.02.2019\, ist Stiebel Eltron ab 07.00 Uhr bei Peter Jensen im Abholterminal im Pilotenweg 12 in Tinnum auf Sylt. Den ganzen Tag stehen Ihnen fachkundige Berater des Herstellers zum Thema „Messeneuheiten“ zur Verfügung und beantworten auch gerne alle Ihre Fragen. \n\n\nEröffnung des SHK-Shop Paulsen\, Abhol-Centers Rugenbarg in Norderstedt was last modified:  August 28th\, 2023 by
URL:https://hamburg-plumbers.de/veranstaltung/stiebel-eltron-bei-peter-jensen-im-abholterminal-sylt/
LOCATION:Peter Jensen\, Abholterminal Sylt\, Pilotenweg 12\, Tinnum auf Sylt\, Schleswig-Holstein\, 25980\, Deutschland
END:VEVENT
BEGIN:VEVENT
DTSTART;TZID=Europe/Berlin:20190222T070000
DTEND;TZID=Europe/Berlin:20190222T130000
DTSTAMP:20260419T224425
CREATED:20190208T102553Z
LAST-MODIFIED:20190208T102553Z
UID:2618-1550818800-1550840400@hamburg-plumbers.de
SUMMARY:Doyma bei Peter Jensen im Abholterminal 1 in HH-City
DESCRIPTION:Doyma bei Peter Jensen im Abholterminal 1 in HH-City\nAm Freitag den 22.02.2019\, ist Doyma ab 07.00 Uhr bei Peter Jensen im Abholterminal in der Borgfelder Straße 19 in Hamburg-Borgfelde. Den ganzen Tag stehen Ihnen fachkundige Berater des Herstellers zum Thema „Gesamtprogramm“ zur Verfügung und beantworten auch gerne alle Ihre Fragen. \nEröffnung des SHK-Shop Paulsen\, Abhol-Centers Rugenbarg in Norderstedt was last modified:  August 28th\, 2023 by
URL:https://hamburg-plumbers.de/veranstaltung/doyma-bei-peter-jensen-im-abholterminal-1-in-hh-city-2/
LOCATION:Peter Jensen Abholterminal 1\, Borgfelder Straße 19\, Hamburg\, Hamburg\, 20537\, Deutschland
END:VEVENT
BEGIN:VEVENT
DTSTART;TZID=Europe/Berlin:20190226T070000
DTEND;TZID=Europe/Berlin:20190226T160000
DTSTAMP:20260419T224425
CREATED:20190208T104803Z
LAST-MODIFIED:20190208T104803Z
UID:2622-1551164400-1551196800@hamburg-plumbers.de
SUMMARY:Stiebel Eltron bei Peter Jensen im Abholterminal 3 in HH-Ost
DESCRIPTION:Stiebel Eltron bei Peter Jensen im Abholterminal 3 in HH-Ost\nAm Dienstag den 26.02.2019\, ist Stiebel Eltron ab 07.00 Uhr bei Peter Jensen im Abholterminal im Heestweg 41 in Hamburg-Rahlstedt. Den ganzen Tag stehen Ihnen fachkundige Berater des Herstellers zum Thema „Messeneuheiten“ zur Verfügung und beantworten auch gerne alle Ihre Fragen. \nEröffnung des SHK-Shop Paulsen\, Abhol-Centers Rugenbarg in Norderstedt was last modified:  August 28th\, 2023 by
URL:https://hamburg-plumbers.de/veranstaltung/stiebel-eltron-bei-peter-jensen-im-abholterminal-3-in-hh-ost/
LOCATION:Peter Jensen – Abholterminal 3 in HH-Ost\, Heestweg 41\, Hamburg\, Hamburg\, 22143\, Deutschland
END:VEVENT
BEGIN:VEVENT
DTSTART;TZID=Europe/Berlin:20190226T070000
DTEND;TZID=Europe/Berlin:20190226T160000
DTSTAMP:20260419T224425
CREATED:20190208T110529Z
LAST-MODIFIED:20190208T110529Z
UID:2630-1551164400-1551196800@hamburg-plumbers.de
SUMMARY:KSB bei Peter Jensen im Abholterminal Kiel
DESCRIPTION:KSB bei Peter Jensen im Abholterminal Kiel\nAm Dienstag den 26.02.2019\, ist KSB ab 07.00 Uhr bei Peter Jensen im Abholterminal in der Straße „Tonberg 25“ in Kiel. Den ganzen Tag stehen Ihnen fachkundige Berater des Herstellers zum Thema „Pumpentechnik“ zur Verfügung und beantworten auch gerne alle Ihre Fragen. \nEröffnung des SHK-Shop Paulsen\, Abhol-Centers Rugenbarg in Norderstedt was last modified:  August 28th\, 2023 by
URL:https://hamburg-plumbers.de/veranstaltung/ksb-bei-peter-jensen-im-abholterminal-kiel/
LOCATION:Peter Jensen Abholterminal Kiel\, Tonberg 25\, Kiel\, Schleswig-Holstein \, 24113\, Deutschland
END:VEVENT
BEGIN:VEVENT
DTSTART;TZID=Europe/Berlin:20190226T070000
DTEND;TZID=Europe/Berlin:20190226T160000
DTSTAMP:20260419T224425
CREATED:20190208T120711Z
LAST-MODIFIED:20190208T120711Z
UID:2647-1551164400-1551196800@hamburg-plumbers.de
SUMMARY:Doyma bei Peter Jensen im Abholterminal Schleswig
DESCRIPTION:Doyma bei Peter Jensen im Abholterminal Schleswig\nAm Dienstag den 26.02.2019\, ist Doyma ab 07.00 Uhr bei Peter Jensen im Abholterminal in der Heinrich-Hertz-Straße 41 in Schleswig. Den ganzen Tag stehen Ihnen fachkundige Berater des Herstellers zum Thema „Gesamtprogramm“ zur Verfügung und beantworten auch gerne alle Ihre Fragen. \n\nEröffnung des SHK-Shop Paulsen\, Abhol-Centers Rugenbarg in Norderstedt was last modified:  August 28th\, 2023 by
URL:https://hamburg-plumbers.de/veranstaltung/doyma-bei-peter-jensen-im-abholterminal-schleswig/
LOCATION:Peter Jensen Abholterminal Schleswig\, Heinrich-Hertz-Straße 42\, Schleswig \, Schleswig-Holstein \, 24837\, Deutschland
END:VEVENT
BEGIN:VEVENT
DTSTART;TZID=Europe/Berlin:20190227T070000
DTEND;TZID=Europe/Berlin:20190227T160000
DTSTAMP:20260419T224425
CREATED:20190208T114821Z
LAST-MODIFIED:20190208T114821Z
UID:2638-1551250800-1551283200@hamburg-plumbers.de
SUMMARY:Rems bei Peter Jensen im Abholterminal Lüchow
DESCRIPTION:Rems bei Peter Jensen im Abholterminal Lüchow\nAm Mittwoch den 27.02.2019\, ist Rems ab 07.00 Uhr bei Peter Jensen im Abholterminal in der Straße „Berthold-Roggan-Ring 3“ in Lüchow. Den ganzen Tag stehen Ihnen fachkundige Berater des Herstellers zum Thema „Werkzeuge“ zur Verfügung und beantworten auch gerne alle Ihre Fragen. \nEröffnung des SHK-Shop Paulsen\, Abhol-Centers Rugenbarg in Norderstedt was last modified:  August 28th\, 2023 by
URL:https://hamburg-plumbers.de/veranstaltung/rems-bei-peter-jensen-im-abholterminal-luechow/
LOCATION:Peter Jensen – Abholterminal Lüchow\,  Berthold-Roggan-Ring 3\, Lüchow \, Niedersachsen \, 29439\, Deutschland
END:VEVENT
BEGIN:VEVENT
DTSTART;TZID=Europe/Berlin:20190227T070000
DTEND;TZID=Europe/Berlin:20190227T160000
DTSTAMP:20260419T224425
CREATED:20190208T115531Z
LAST-MODIFIED:20190208T115531Z
UID:2640-1551250800-1551283200@hamburg-plumbers.de
SUMMARY:Wavin bei Peter Jensen im Abholterminal Lüchow
DESCRIPTION:Wavin bei Peter Jensen im Abholterminal Lüchow\nAm Mittwoch den 27.02.2019\, ist Wavin ab 07.00 Uhr bei Peter Jensen im Abholterminal in der Straße „Berthold-Roggan-Ring 3“ in Lüchow. Den ganzen Tag stehen Ihnen fachkundige Berater des Herstellers zum Thema „Haustechnik“ zur Verfügung und beantworten auch gerne alle Ihre Fragen. \nEröffnung des SHK-Shop Paulsen\, Abhol-Centers Rugenbarg in Norderstedt was last modified:  August 28th\, 2023 by
URL:https://hamburg-plumbers.de/veranstaltung/wavin-bei-peter-jensen-im-abholterminal-luechow/
LOCATION:Peter Jensen – Abholterminal Lüchow\,  Berthold-Roggan-Ring 3\, Lüchow \, Niedersachsen \, 29439\, Deutschland
END:VEVENT
BEGIN:VEVENT
DTSTART;TZID=Europe/Berlin:20190227T070000
DTEND;TZID=Europe/Berlin:20190227T160000
DTSTAMP:20260419T224425
CREATED:20190208T121252Z
LAST-MODIFIED:20190208T121252Z
UID:2649-1551250800-1551283200@hamburg-plumbers.de
SUMMARY:G. Bee GmbH bei Peter Jensen im Abholterminal Schwerin
DESCRIPTION:G. Bee GmbH bei Peter Jensen im Abholterminal Schwerin\nAm Mittwoch den 27.02.2019\, ist G. Bee GmbH ab 07.00 Uhr bei Peter Jensen im Abholterminal im Mittelweg 2 in Schwerin. Den ganzen Tag stehen Ihnen fachkundige Berater des Herstellers zum Thema „Kugelhähne Comfort“ zur Verfügung und beantworten auch gerne alle Ihre Fragen. \n\nEröffnung des SHK-Shop Paulsen\, Abhol-Centers Rugenbarg in Norderstedt was last modified:  August 28th\, 2023 by
URL:https://hamburg-plumbers.de/veranstaltung/g-bee-gmbh-bei-peter-jensen-im-abholterminal-schwerin/
LOCATION:Peter Jensen – Abholterminal Schwerin\, Mittelweg 2\, Schwerin\, Mecklenburg Vorpommern \, 19059\, Deutschland
END:VEVENT
BEGIN:VEVENT
DTSTART;TZID=Europe/Berlin:20190228T070000
DTEND;TZID=Europe/Berlin:20190228T160000
DTSTAMP:20260419T224425
CREATED:20190208T104133Z
LAST-MODIFIED:20190208T104133Z
UID:2620-1551337200-1551369600@hamburg-plumbers.de
SUMMARY:Mabo Sanitec GmbH bei Peter Jensen im Abholterminal 2 in HH-West
DESCRIPTION:Mabo Sanitec GmbH bei Peter Jensen im Abholterminal 2 in HH-West\nAm Donnerstag den 28.02.2019\, ist Mabo Sanitec GmbH ab 07.00 Uhr bei Peter Jensen im Abholterminal 2 in der Vizelinstraße 10 in Hamburg-West. Den ganzen Tag stehen Ihnen fachkundige Berater des Herstellers zum Thema „Wannendichtung 3D Ecken“ zur Verfügung und beantworten auch gerne alle Ihre Fragen. \nEröffnung des SHK-Shop Paulsen\, Abhol-Centers Rugenbarg in Norderstedt was last modified:  August 28th\, 2023 by
URL:https://hamburg-plumbers.de/veranstaltung/mabo-sanitec-gmbh-bei-peter-jensen-im-abholterminal-2-in-hh-west/
LOCATION:Peter Jensen Abholterminal 2\, Vizelinstraße 10\, Hamburg\, Hamburg\, 22529\, Deutschland
END:VEVENT
BEGIN:VEVENT
DTSTART;TZID=Europe/Berlin:20190228T070000
DTEND;TZID=Europe/Berlin:20190228T160000
DTSTAMP:20260419T224425
CREATED:20190208T110050Z
LAST-MODIFIED:20190208T110050Z
UID:2628-1551337200-1551369600@hamburg-plumbers.de
SUMMARY:Doyma bei Peter Jensen im Abholterminal Itzehoe
DESCRIPTION:Doyma bei Peter Jensen im Abholterminal Itzehoe\nAm Donnerstag den 28.02.2019\, ist Doyma ab 07.00 Uhr bei Peter Jensen im Abholterminal in der Straße „Am Brookhafen 14“ in Itzehoe. Den ganzen Tag stehen Ihnen fachkundige Berater des Herstellers zum Thema „Gesamtprogramm“ zur Verfügung und beantworten auch gerne alle Ihre Fragen. \nEröffnung des SHK-Shop Paulsen\, Abhol-Centers Rugenbarg in Norderstedt was last modified:  August 28th\, 2023 by
URL:https://hamburg-plumbers.de/veranstaltung/doyma-bei-peter-jensen-im-abholterminal-itzehoe/
LOCATION:Peter Jensen Abholterminal Itzehoe\, Am Brookhafen 14\, Itzehoe \, Schleswig-Holstein \, 25524\, Deutschland
END:VEVENT
BEGIN:VEVENT
DTSTART;TZID=Europe/Berlin:20190228T070000
DTEND;TZID=Europe/Berlin:20190228T160000
DTSTAMP:20260419T224425
CREATED:20190208T121606Z
LAST-MODIFIED:20190208T121606Z
UID:2651-1551337200-1551369600@hamburg-plumbers.de
SUMMARY:Atec bei Peter Jensen im Abholterminal Schwerin
DESCRIPTION:Atec bei Peter Jensen im Abholterminal Schwerin\nAm Donnerstag den 28.02.2019\, ist Atec ab 07.00 Uhr bei Peter Jensen im Abholterminal im Mittelweg 2 in Schwerin. Den ganzen Tag stehen Ihnen fachkundige Berater des Herstellers zum Thema „Abgastechnologie“ zur Verfügung und beantworten auch gerne alle Ihre Fragen. \n\n\nEröffnung des SHK-Shop Paulsen\, Abhol-Centers Rugenbarg in Norderstedt was last modified:  August 28th\, 2023 by
URL:https://hamburg-plumbers.de/veranstaltung/atec-bei-peter-jensen-im-abholterminal-schwerin/
LOCATION:Peter Jensen – Abholterminal Schwerin\, Mittelweg 2\, Schwerin\, Mecklenburg Vorpommern \, 19059\, Deutschland
END:VEVENT
END:VCALENDAR