BEGIN:VCALENDAR
VERSION:2.0
PRODID:-//Hamburg Plumbers - ECPv6.6.1//NONSGML v1.0//EN
CALSCALE:GREGORIAN
METHOD:PUBLISH
X-ORIGINAL-URL:https://hamburg-plumbers.de
X-WR-CALDESC:Veranstaltungen für Hamburg Plumbers
REFRESH-INTERVAL;VALUE=DURATION:PT1H
X-Robots-Tag:noindex
X-PUBLISHED-TTL:PT1H
BEGIN:VTIMEZONE
TZID:Europe/Berlin
BEGIN:DAYLIGHT
TZOFFSETFROM:+0100
TZOFFSETTO:+0200
TZNAME:CEST
DTSTART:20230326T010000
END:DAYLIGHT
BEGIN:STANDARD
TZOFFSETFROM:+0200
TZOFFSETTO:+0100
TZNAME:CET
DTSTART:20231029T010000
END:STANDARD
END:VTIMEZONE
BEGIN:VEVENT
DTSTART;TZID=Europe/Berlin:20230329T070000
DTEND;TZID=Europe/Berlin:20230329T140000
DTSTAMP:20260419T220527
CREATED:20230325T091517Z
LAST-MODIFIED:20230325T091517Z
UID:4141-1680073200-1680098400@hamburg-plumbers.de
SUMMARY:JUDO "WunschWasser On Tour" im Friedrich Lange HOLFIX HH-Bergedorf
DESCRIPTION:JUDO „WunschWasser On Tour“ beim Thekentag im Friedrich Lange HOLFIX HH-Bergedorf\nWann?   Mittwoch den 29.03.2023\, von 07:00 – 14:00 Uhr \nWo?       Friedrich Lange GmbH\, Am Schilfpark 22\, 21029 Hamburg \nKommt vorbei und erfahrt alles zu den Neuheiten von JUDO Wasseraufbereitung. Von der Filtration über die Enthärtung bis hin zu Leckage- und Heizungsschutzsystemen. \nDie JUDO Fachberaterin bzw. der JUDO Fachberater informiert euch umfassend zu dem JUDO Produkt- und Service-Angebot und beantwortet euch alle Fragen zu den Geräten – immer unter Berücksichtigung der aktuellen Hygienevorschriften. \n  \nEröffnung des SHK-Shop Paulsen\, Abhol-Centers Rugenbarg in Norderstedt was last modified:  August 28th\, 2023 by
URL:https://hamburg-plumbers.de/veranstaltung/judo-wunschwasser-on-tour-im-friedrich-lange-holfix-hh-bergedorf/
LOCATION:Friedrich Lange GmbH HH-Bergedorf\, Am Schilfpark 22\, Hamburg\, Hamburg\, 21029\, Deutschland
END:VEVENT
END:VCALENDAR