BEGIN:VCALENDAR
VERSION:2.0
PRODID:-//Hamburg Plumbers - ECPv6.6.1//NONSGML v1.0//EN
CALSCALE:GREGORIAN
METHOD:PUBLISH
X-ORIGINAL-URL:https://hamburg-plumbers.de
X-WR-CALDESC:Veranstaltungen für Hamburg Plumbers
REFRESH-INTERVAL;VALUE=DURATION:PT1H
X-Robots-Tag:noindex
X-PUBLISHED-TTL:PT1H
BEGIN:VTIMEZONE
TZID:Europe/Berlin
BEGIN:DAYLIGHT
TZOFFSETFROM:+0100
TZOFFSETTO:+0200
TZNAME:CEST
DTSTART:20190331T010000
END:DAYLIGHT
BEGIN:STANDARD
TZOFFSETFROM:+0200
TZOFFSETTO:+0100
TZNAME:CET
DTSTART:20191027T010000
END:STANDARD
END:VTIMEZONE
BEGIN:VEVENT
DTSTART;TZID=Europe/Berlin:20190427T090000
DTEND;TZID=Europe/Berlin:20190427T180000
DTSTAMP:20260424T021013
CREATED:20190111T122447Z
LAST-MODIFIED:20190111T122905Z
UID:2588-1556355600-1556388000@hamburg-plumbers.de
SUMMARY:"Hamburger Ofenbautag" in JENSENs LAGERHAUS
DESCRIPTION:„Hamburger Ofenbautag“ in JENSENs LAGERHAUS\nAm Samstag\, 27. April 2019 findet in JENSENs LAGERHAUS in der Borgfelder Straße 19 in Hamburg in der Zeit von 09.00 – 18.00 Uhr der „Hamburger Ofenbautag“ als Nachlese zu den Messen KOK Wels und ISH Frankfurt statt.\nWir laden Sie\, Ihre Familie und enge Mitarbeiter ganz herzlich zu uns in die Hamburger City ein und sind stolz Ihnen über 20 der wichtigsten Lieferanten der Branche präsentieren zu können.\n \nSie dürfen wieder gespannt sein auf eine besondere Hausmesse in einer persönlichen\, entspannten und ereignisreichen Atmosphäre in Jensens Lagerhaus. \nLassen Sie sich diese Veranstaltung nicht entgehen und melden sich schnell an und nutzen dafür unser Anmeldeformular. Einfach oben rechts auf das Bild klicken\, herunterladen und ausfüllen. \nEröffnung des SHK-Shop Paulsen\, Abhol-Centers Rugenbarg in Norderstedt was last modified:  August 28th\, 2023 by
URL:https://hamburg-plumbers.de/veranstaltung/hamburger-ofenbautag-in-jensens-lagerhaus/
LOCATION:Peter Jensen Abholterminal 1\, Borgfelder Straße 19\, Hamburg\, Hamburg\, 20537\, Deutschland
END:VEVENT
END:VCALENDAR