BEGIN:VCALENDAR
VERSION:2.0
PRODID:-//Hamburg Plumbers - ECPv6.6.1//NONSGML v1.0//EN
CALSCALE:GREGORIAN
METHOD:PUBLISH
X-ORIGINAL-URL:https://hamburg-plumbers.de
X-WR-CALDESC:Veranstaltungen für Hamburg Plumbers
REFRESH-INTERVAL;VALUE=DURATION:PT1H
X-Robots-Tag:noindex
X-PUBLISHED-TTL:PT1H
BEGIN:VTIMEZONE
TZID:Europe/Berlin
BEGIN:DAYLIGHT
TZOFFSETFROM:+0100
TZOFFSETTO:+0200
TZNAME:CEST
DTSTART:20190331T010000
END:DAYLIGHT
BEGIN:STANDARD
TZOFFSETFROM:+0200
TZOFFSETTO:+0100
TZNAME:CET
DTSTART:20191027T010000
END:STANDARD
END:VTIMEZONE
BEGIN:VEVENT
DTSTART;TZID=Europe/Berlin:20190425T070000
DTEND;TZID=Europe/Berlin:20190425T160000
DTSTAMP:20260423T230745
CREATED:20190327T173019Z
LAST-MODIFIED:20190327T173019Z
UID:2805-1556175600-1556208000@hamburg-plumbers.de
SUMMARY:GWK bei Peter Jensen im Abholterminal Schwerin
DESCRIPTION:GWK bei Peter Jensen im Abholterminal Schwerin\nAm Donnerstag den 25.04.2019\, ist GWK ab 07.00 Uhr bei Peter Jensen im Abholterminal im Mittelweg 2 in Schwerin. Den ganzen Tag stehen Ihnen fachkundige Berater des Herstellers zum Thema „Armaturenisolierung“ zur Verfügung und beantworten auch gerne alle Ihre Fragen. \nEröffnung des SHK-Shop Paulsen\, Abhol-Centers Rugenbarg in Norderstedt was last modified:  August 28th\, 2023 by
URL:https://hamburg-plumbers.de/veranstaltung/gwk-bei-peter-jensen-im-abholterminal-schwerin/
LOCATION:Peter Jensen – Abholterminal Schwerin\, Mittelweg 2\, Schwerin\, Mecklenburg Vorpommern \, 19059\, Deutschland
END:VEVENT
END:VCALENDAR