BEGIN:VCALENDAR
VERSION:2.0
PRODID:-//Hamburg Plumbers - ECPv6.6.1//NONSGML v1.0//EN
CALSCALE:GREGORIAN
METHOD:PUBLISH
X-ORIGINAL-URL:https://hamburg-plumbers.de
X-WR-CALDESC:Veranstaltungen für Hamburg Plumbers
REFRESH-INTERVAL;VALUE=DURATION:PT1H
X-Robots-Tag:noindex
X-PUBLISHED-TTL:PT1H
BEGIN:VTIMEZONE
TZID:Europe/Berlin
BEGIN:DAYLIGHT
TZOFFSETFROM:+0100
TZOFFSETTO:+0200
TZNAME:CEST
DTSTART:20190331T010000
END:DAYLIGHT
BEGIN:STANDARD
TZOFFSETFROM:+0200
TZOFFSETTO:+0100
TZNAME:CET
DTSTART:20191027T010000
END:STANDARD
END:VTIMEZONE
BEGIN:VEVENT
DTSTART;TZID=Europe/Berlin:20190416T070000
DTEND;TZID=Europe/Berlin:20190416T160000
DTSTAMP:20260423T132950
CREATED:20190327T144831Z
LAST-MODIFIED:20190327T144831Z
UID:2772-1555398000-1555430400@hamburg-plumbers.de
SUMMARY:G. Bee GmbH bei Peter Jensen im Abholterminal 2 in HH-West
DESCRIPTION:G. Bee GmbH bei Peter Jensen im Abholterminal 2 in HH-West\nAm Dienstag den 16.04.2019\, ist G. Bee GmbH ab 07.00 Uhr bei Peter Jensen im Abholterminal 2 in der Vizelinstraße 10 in Hamburg-West. Den ganzen Tag stehen Ihnen fachkundige Berater des Herstellers zum Thema „Kugelhähne Comfort““ zur Verfügung und beantworten auch gerne alle Ihre Fragen. \nEröffnung des SHK-Shop Paulsen\, Abhol-Centers Rugenbarg in Norderstedt was last modified:  August 28th\, 2023 by
URL:https://hamburg-plumbers.de/veranstaltung/g-bee-gmbh-bei-peter-jensen-im-abholterminal-2-in-hh-west/
LOCATION:Peter Jensen Abholterminal 2\, Vizelinstraße 10\, Hamburg\, Hamburg\, 22529\, Deutschland
END:VEVENT
BEGIN:VEVENT
DTSTART;TZID=Europe/Berlin:20190416T070000
DTEND;TZID=Europe/Berlin:20190416T160000
DTSTAMP:20260423T132950
CREATED:20190327T181538Z
LAST-MODIFIED:20190327T181538Z
UID:2822-1555398000-1555430400@hamburg-plumbers.de
SUMMARY:DAB bei Peter Jensen im Abholterminal Sylt
DESCRIPTION:DAB bei Peter Jensen im Abholterminal Sylt\nAm Dienstag den 16.04.2019\, ist DAB ab 07.00 Uhr bei Peter Jensen im Abholterminal im Pilotenweg 12 in Tinnum auf Sylt. Den ganzen Tag stehen Ihnen fachkundige Berater des Herstellers zum Thema „DAB Pumpen“ zur Verfügung und beantworten auch gerne alle Ihre Fragen. \nEröffnung des SHK-Shop Paulsen\, Abhol-Centers Rugenbarg in Norderstedt was last modified:  August 28th\, 2023 by
URL:https://hamburg-plumbers.de/veranstaltung/dab-bei-peter-jensen-im-abholterminal-sylt/
LOCATION:Peter Jensen\, Abholterminal Sylt\, Pilotenweg 12\, Tinnum auf Sylt\, Schleswig-Holstein\, 25980\, Deutschland
END:VEVENT
END:VCALENDAR