BEGIN:VCALENDAR
VERSION:2.0
PRODID:-//Hamburg Plumbers - ECPv6.6.1//NONSGML v1.0//EN
CALSCALE:GREGORIAN
METHOD:PUBLISH
X-WR-CALNAME:Hamburg Plumbers
X-ORIGINAL-URL:https://hamburg-plumbers.de
X-WR-CALDESC:Veranstaltungen für Hamburg Plumbers
REFRESH-INTERVAL;VALUE=DURATION:PT1H
X-Robots-Tag:noindex
X-PUBLISHED-TTL:PT1H
BEGIN:VTIMEZONE
TZID:Europe/Berlin
BEGIN:DAYLIGHT
TZOFFSETFROM:+0100
TZOFFSETTO:+0200
TZNAME:CEST
DTSTART:20190331T010000
END:DAYLIGHT
BEGIN:STANDARD
TZOFFSETFROM:+0200
TZOFFSETTO:+0100
TZNAME:CET
DTSTART:20191027T010000
END:STANDARD
END:VTIMEZONE
BEGIN:VEVENT
DTSTART;TZID=Europe/Berlin:20190411T070000
DTEND;TZID=Europe/Berlin:20190411T160000
DTSTAMP:20260423T104616
CREATED:20190327T161405Z
LAST-MODIFIED:20190327T161405Z
UID:2787-1554966000-1554998400@hamburg-plumbers.de
SUMMARY:Honeywell bei Peter Jensen im Abholterminal 5 in HH-Nord
DESCRIPTION:Honeywell bei Peter Jensen im Abholterminal 5 in HH-Nord\nAm Donnerstag den 11.04.2019 ist Honeywell ab 07.00 Uhr bei Peter Jensen im Abholterminal 5 im Lademannbogen 14 in Hamburg-Nord. Den ganzen Tag stehen Ihnen fachkundige Berater des Herstellers zum Thema „Messeneuheiten“ zur Verfügung und beantworten auch gerne alle Ihre Fragen. \nEröffnung des SHK-Shop Paulsen\, Abhol-Centers Rugenbarg in Norderstedt was last modified:  August 28th\, 2023 by
URL:https://hamburg-plumbers.de/veranstaltung/honeywell-bei-peter-jensen-im-abholterminal-5-in-hh-nord/
LOCATION:Peter Jensen Abholterminal 5 HH-Nord\, Lademannbogen 14 \, Hamburg\, Hamburg\, 22339\, Deutschland
END:VEVENT
BEGIN:VEVENT
DTSTART;TZID=Europe/Berlin:20190411T070000
DTEND;TZID=Europe/Berlin:20190411T160000
DTSTAMP:20260423T104616
CREATED:20190327T174831Z
LAST-MODIFIED:20190327T174831Z
UID:2809-1554966000-1554998400@hamburg-plumbers.de
SUMMARY:DAB bei Peter Jensen im Abholterminal Seevetal
DESCRIPTION:DAB bei Peter Jensen im Abholterminal Seevetal\nAm Donnerstag den 11.04.2019 ist DAB ab 07.00 Uhr bei Peter Jensen im Abholterminal in der Straße „Brunskamp 5″  in Seevetal. Den ganzen Tag stehen Ihnen fachkundige Berater des Herstellers zum Thema „DAB Pumpen“ zur Verfügung und beantworten auch gerne alle Ihre Fragen. \nEröffnung des SHK-Shop Paulsen\, Abhol-Centers Rugenbarg in Norderstedt was last modified:  August 28th\, 2023 by
URL:https://hamburg-plumbers.de/veranstaltung/dab-bei-peter-jensen-im-abholterminal-seevetal/
LOCATION:Peter Jensen Abholterminal Seevetal\, Brunskamp 5\, Seevetal\, Niedersachsen \, 21220\, Deutschland
END:VEVENT
BEGIN:VEVENT
DTSTART;TZID=Europe/Berlin:20190411T070000
DTEND;TZID=Europe/Berlin:20190411T160000
DTSTAMP:20260423T104616
CREATED:20190327T175619Z
LAST-MODIFIED:20190327T175619Z
UID:2814-1554966000-1554998400@hamburg-plumbers.de
SUMMARY:KSB bei Peter Jensen im Abholterminal Pinneberg
DESCRIPTION:KSB bei Peter Jensen im Abholterminal Pinneberg\nAm Donnerstag den 11.04.2019\, ist KSB ab 07.00 Uhr bei Peter Jensen im Abholterminal in der Elmshorner Straße 46  in Pinneberg. Den ganzen Tag stehen Ihnen fachkundige Berater des Herstellers zum Thema „Pumpentechnik“ zur Verfügung und beantworten auch gerne alle Ihre Fragen. \nEröffnung des SHK-Shop Paulsen\, Abhol-Centers Rugenbarg in Norderstedt was last modified:  August 28th\, 2023 by
URL:https://hamburg-plumbers.de/veranstaltung/ksb-bei-peter-jensen-im-abholterminal-pinneberg/
LOCATION:Peter Jensen Abholterminal Pinneberg\, Elmshorner Straße 46\, Pinneberg\, Schleswig-Holstein \, 25421\, Deutschland
END:VEVENT
BEGIN:VEVENT
DTSTART;TZID=Europe/Berlin:20190411T070000
DTEND;TZID=Europe/Berlin:20190411T160000
DTSTAMP:20260423T104616
CREATED:20190327T194618Z
LAST-MODIFIED:20190327T194618Z
UID:2840-1554966000-1554998400@hamburg-plumbers.de
SUMMARY:Honeywell bei Peter Jensen im Abholterminal Rostock-West
DESCRIPTION:Honeywell bei Peter Jensen im Abholterminal Rostock-West\nAm Donnerstag den 11.04.2019\, ist Honeywell ab 07.00 Uhr bei Peter Jensen im Abholterminal in der Straße „Am Fischereihafen 1a″  in Rostock-West. Den ganzen Tag stehen Ihnen fachkundige Berater des Herstellers zum Thema „Messeneuheiten“ zur Verfügung und beantworten auch gerne alle Ihre Fragen. \nEröffnung des SHK-Shop Paulsen\, Abhol-Centers Rugenbarg in Norderstedt was last modified:  August 28th\, 2023 by
URL:https://hamburg-plumbers.de/veranstaltung/honeywell-bei-peter-jensen-im-abholterminal-rostock-west/
LOCATION:Peter Jensen\, Abholterminal Rostock-West\, Am Fischereihafen 1\, Rostock-Marienehe\, Mecklenburg-Vorpommern\, 18069\, Deutschland
END:VEVENT
BEGIN:VEVENT
DTSTART;TZID=Europe/Berlin:20190411T080000
DTEND;TZID=Europe/Berlin:20190411T160000
DTSTAMP:20260423T104616
CREATED:20190327T143555Z
LAST-MODIFIED:20190327T143555Z
UID:2768-1554969600-1554998400@hamburg-plumbers.de
SUMMARY:G. Bee GmbH bei Peter Jensen im Abholterminal 1 in HH-City
DESCRIPTION:G. Bee GmbH bei Peter Jensen im Abholterminal 1 in HH-City\nAm Donnerstag den 11.04.2019\, ist G. Bee GmbH ab 07.00 Uhr bei Peter Jensen im Abholterminal in der Borgfelder Straße 19 in Hamburg-Borgfelde. Den ganzen Tag stehen Ihnen fachkundige Berater des Herstellers zum Thema „Kugelhähne Comfort““ zur Verfügung und beantworten auch gerne alle Ihre Fragen. \nEröffnung des SHK-Shop Paulsen\, Abhol-Centers Rugenbarg in Norderstedt was last modified:  August 28th\, 2023 by
URL:https://hamburg-plumbers.de/veranstaltung/g-bee-gmbh-bei-peter-jensen-im-abholterminal-1-in-hh-city/
LOCATION:Peter Jensen Abholterminal 1\, Borgfelder Straße 19\, Hamburg\, Hamburg\, 20537\, Deutschland
END:VEVENT
END:VCALENDAR