BEGIN:VCALENDAR
VERSION:2.0
PRODID:-//Hamburg Plumbers - ECPv6.6.1//NONSGML v1.0//EN
CALSCALE:GREGORIAN
METHOD:PUBLISH
X-WR-CALNAME:Hamburg Plumbers
X-ORIGINAL-URL:https://hamburg-plumbers.de
X-WR-CALDESC:Veranstaltungen für Hamburg Plumbers
REFRESH-INTERVAL;VALUE=DURATION:PT1H
X-Robots-Tag:noindex
X-PUBLISHED-TTL:PT1H
BEGIN:VTIMEZONE
TZID:Europe/Berlin
BEGIN:DAYLIGHT
TZOFFSETFROM:+0100
TZOFFSETTO:+0200
TZNAME:CEST
DTSTART:20190331T010000
END:DAYLIGHT
BEGIN:STANDARD
TZOFFSETFROM:+0200
TZOFFSETTO:+0100
TZNAME:CET
DTSTART:20191027T010000
END:STANDARD
END:VTIMEZONE
BEGIN:VEVENT
DTSTART;TZID=Europe/Berlin:20190410T070000
DTEND;TZID=Europe/Berlin:20190410T160000
DTSTAMP:20260421T114225
CREATED:20190327T160812Z
LAST-MODIFIED:20190327T160812Z
UID:2783-1554879600-1554912000@hamburg-plumbers.de
SUMMARY:DAB bei Peter Jensen im Abholterminal 5 in HH-Nord
DESCRIPTION:DAB bei Peter Jensen im Abholterminal 5 in HH-Nord\nAm Mittwoch den 10.04.2019 ist DAB ab 07.00 Uhr bei Peter Jensen im Abholterminal 5 im Lademannbogen 14 in Hamburg-Nord. Den ganzen Tag stehen Ihnen fachkundige Berater des Herstellers zum Thema „DAB Pumpen“ zur Verfügung und beantworten auch gerne alle Ihre Fragen. \nEröffnung des SHK-Shop Paulsen\, Abhol-Centers Rugenbarg in Norderstedt was last modified:  August 28th\, 2023 by
URL:https://hamburg-plumbers.de/veranstaltung/dab-bei-peter-jensen-im-abholterminal-5-in-hh-nord/
LOCATION:Peter Jensen Abholterminal 5 HH-Nord\, Lademannbogen 14 \, Hamburg\, Hamburg\, 22339\, Deutschland
END:VEVENT
BEGIN:VEVENT
DTSTART;TZID=Europe/Berlin:20190410T070000
DTEND;TZID=Europe/Berlin:20190410T160000
DTSTAMP:20260421T114225
CREATED:20190327T165432Z
LAST-MODIFIED:20190327T165432Z
UID:2795-1554879600-1554912000@hamburg-plumbers.de
SUMMARY:Wavin bei Peter Jensen im Abholterminal Hannover
DESCRIPTION:Wavin bei Peter Jensen im Abholterminal Hannover\nAm Mittwoch\, 10.04.2019\, ist Wavin ab 07.00 Uhr bei Peter Jensen im Abholterminal in der Möckernstraße31 in Hannover. Den ganzen Tag stehen Ihnen fachkundige Berater des Herstellers zum Thema „Aktuelles Lagerprogramm“ zur Verfügung und beantworten auch gerne alle Ihre Fragen. \nEröffnung des SHK-Shop Paulsen\, Abhol-Centers Rugenbarg in Norderstedt was last modified:  August 28th\, 2023 by
URL:https://hamburg-plumbers.de/veranstaltung/wavin-bei-peter-jensen-im-abholterminal-hannover/
LOCATION:Peter Jensen\, Abholterminal Hannover\, Möckernstraße 31\, Hannover\, Niedersachsen\, 30163\, Deutschland
END:VEVENT
BEGIN:VEVENT
DTSTART;TZID=Europe/Berlin:20190410T070000
DTEND;TZID=Europe/Berlin:20190410T160000
DTSTAMP:20260421T114225
CREATED:20190327T190534Z
LAST-MODIFIED:20190327T190534Z
UID:2828-1554879600-1554912000@hamburg-plumbers.de
SUMMARY:Poloplast bei Peter Jensen im Abholterminal Salzwedel
DESCRIPTION:Poloplast bei Peter Jensen im Abholterminal Salzwedel\nAm Mitwoch den 10.04.2019\, ist Poloplast ab 07.00 Uhr bei Peter Jensen im Abholterminal in der Schillerstraße 82 in Salzwedel. Den ganzen Tag stehen Ihnen fachkundige Berater des Herstellers zum Thema „aktuelles Lagerprogramm“ zur Verfügung und beantworten auch gerne alle Ihre Fragen.\nEröffnung des SHK-Shop Paulsen\, Abhol-Centers Rugenbarg in Norderstedt was last modified:  August 28th\, 2023 by
URL:https://hamburg-plumbers.de/veranstaltung/poloplast-bei-peter-jensen-im-abholterminal-salzwedel/
LOCATION:Peter Jensen Abholterminal – Salzwedel\, Schillerstraße 82\, Salzwedel\, Sachsen-Anhalt\, 29410\, Deutschland
END:VEVENT
BEGIN:VEVENT
DTSTART;TZID=Europe/Berlin:20190410T070000
DTEND;TZID=Europe/Berlin:20190410T160000
DTSTAMP:20260421T114225
CREATED:20190327T191230Z
LAST-MODIFIED:20190327T191230Z
UID:2830-1554879600-1554912000@hamburg-plumbers.de
SUMMARY:Hansgrohe bei Peter Jensen im Abholterminal Salzwedel
DESCRIPTION:Hansgrohe bei Peter Jensen im Abholterminal Salzwedel\nAm Mitwoch den 10.04.2019\, ist Hansgrohe ab 07.00 Uhr bei Peter Jensen im Abholterminal in der Schillerstraße 82 in Salzwedel. Den ganzen Tag stehen Ihnen fachkundige Berater des Herstellers zum Thema „aktuelles Lagerprogramm“ zur Verfügung und beantworten auch gerne alle Ihre Fragen.\nEröffnung des SHK-Shop Paulsen\, Abhol-Centers Rugenbarg in Norderstedt was last modified:  August 28th\, 2023 by
URL:https://hamburg-plumbers.de/veranstaltung/hansgrohe-bei-peter-jensen-im-abholterminal-salzwedel/
LOCATION:Peter Jensen Abholterminal – Salzwedel\, Schillerstraße 82\, Salzwedel\, Sachsen-Anhalt\, 29410\, Deutschland
END:VEVENT
BEGIN:VEVENT
DTSTART;TZID=Europe/Berlin:20190410T070000
DTEND;TZID=Europe/Berlin:20190410T160000
DTSTAMP:20260421T114225
CREATED:20190327T191445Z
LAST-MODIFIED:20190327T191445Z
UID:2832-1554879600-1554912000@hamburg-plumbers.de
SUMMARY:SFA bei Peter Jensen im Abholterminal Salzwedel
DESCRIPTION:SFA bei Peter Jensen im Abholterminal Salzwedel\nAm Mitwoch den 10.04.2019\, ist SFA ab 07.00 Uhr bei Peter Jensen im Abholterminal in der Schillerstraße 82 in Salzwedel. Den ganzen Tag stehen Ihnen fachkundige Berater des Herstellers zum Thema „aktuelles Lagerprogramm“ zur Verfügung und beantworten auch gerne alle Ihre Fragen.\nEröffnung des SHK-Shop Paulsen\, Abhol-Centers Rugenbarg in Norderstedt was last modified:  August 28th\, 2023 by
URL:https://hamburg-plumbers.de/veranstaltung/sfa-bei-peter-jensen-im-abholterminal-salzwedel/
LOCATION:Peter Jensen Abholterminal – Salzwedel\, Schillerstraße 82\, Salzwedel\, Sachsen-Anhalt\, 29410\, Deutschland
END:VEVENT
END:VCALENDAR