BEGIN:VCALENDAR
VERSION:2.0
PRODID:-//Hamburg Plumbers - ECPv6.6.1//NONSGML v1.0//EN
CALSCALE:GREGORIAN
METHOD:PUBLISH
X-ORIGINAL-URL:https://hamburg-plumbers.de
X-WR-CALDESC:Veranstaltungen für Hamburg Plumbers
REFRESH-INTERVAL;VALUE=DURATION:PT1H
X-Robots-Tag:noindex
X-PUBLISHED-TTL:PT1H
BEGIN:VTIMEZONE
TZID:Europe/Berlin
BEGIN:DAYLIGHT
TZOFFSETFROM:+0100
TZOFFSETTO:+0200
TZNAME:CEST
DTSTART:20190331T010000
END:DAYLIGHT
BEGIN:STANDARD
TZOFFSETFROM:+0200
TZOFFSETTO:+0100
TZNAME:CET
DTSTART:20191027T010000
END:STANDARD
END:VTIMEZONE
BEGIN:VEVENT
DTSTART;TZID=Europe/Berlin:20190404T070000
DTEND;TZID=Europe/Berlin:20190404T160000
DTSTAMP:20260421T064817
CREATED:20190327T142354Z
LAST-MODIFIED:20190327T142354Z
UID:2766-1554361200-1554393600@hamburg-plumbers.de
SUMMARY:Honeywell bei Peter Jensen im Abholterminal 1 in HH-City
DESCRIPTION:Honeywell bei Peter Jensen im Abholterminal 1 in HH-City\nAm Donnerstag den 04.04.2019\, ist Honeywell ab 07.00 Uhr bei Peter Jensen im Abholterminal in der Borgfelder Straße 19 in Hamburg-Borgfelde. Den ganzen Tag stehen Ihnen fachkundige Berater des Herstellers zum Thema „Messeneuheiten“ zur Verfügung und beantworten auch gerne alle Ihre Fragen. \n\nEröffnung des SHK-Shop Paulsen\, Abhol-Centers Rugenbarg in Norderstedt was last modified:  August 28th\, 2023 by
URL:https://hamburg-plumbers.de/veranstaltung/honeywell-bei-peter-jensen-im-abholterminal-1-in-hh-city/
LOCATION:Peter Jensen Abholterminal 1\, Borgfelder Straße 19\, Hamburg\, Hamburg\, 20537\, Deutschland
END:VEVENT
BEGIN:VEVENT
DTSTART;TZID=Europe/Berlin:20190404T070000
DTEND;TZID=Europe/Berlin:20190404T160000
DTSTAMP:20260421T064817
CREATED:20190327T153642Z
LAST-MODIFIED:20190327T154131Z
UID:2781-1554361200-1554393600@hamburg-plumbers.de
SUMMARY:Doyma bei Peter Jensen im Abholterminal 5 in HH-Nord
DESCRIPTION:Doyma bei Peter Jensen im Abholterminal 5 in HH-Nord\nAm Donnerstag den 04.04.2019 ist Doyma ab 07.00 Uhr bei Peter Jensen im Abholterminal 5 im Lademannbogen 14 in Hamburg-Nord. Den ganzen Tag stehen Ihnen fachkundige Berater des Herstellers zum Thema „Gesamtprogramm“ zur Verfügung und beantworten auch gerne alle Ihre Fragen. \nEröffnung des SHK-Shop Paulsen\, Abhol-Centers Rugenbarg in Norderstedt was last modified:  August 28th\, 2023 by
URL:https://hamburg-plumbers.de/veranstaltung/doyma-bei-peter-jensen-im-abholterminal-5-in-hh-nord-2/
LOCATION:Peter Jensen Abholterminal 5 HH-Nord\, Lademannbogen 14 \, Hamburg\, Hamburg\, 22339\, Deutschland
END:VEVENT
BEGIN:VEVENT
DTSTART;TZID=Europe/Berlin:20190404T070000
DTEND;TZID=Europe/Berlin:20190404T160000
DTSTAMP:20260421T064817
CREATED:20190327T181959Z
LAST-MODIFIED:20190327T181959Z
UID:2824-1554361200-1554393600@hamburg-plumbers.de
SUMMARY:Mabo Sanitec GmbH bei Peter Jensen im Abholterminal Kiel
DESCRIPTION:Mabo Sanitec GmbH bei Peter Jensen im Abholterminal Kiel\nAm Donnerstag den 04.04.2019\, ist Mabo Sanitec GmbH ab 07.00 Uhr bei Peter Jensen im Abholterminal in der Straße „Tonberg 25“ in Kiel. Den ganzen Tag stehen Ihnen fachkundige Berater des Herstellers zum Thema „Wannendichtung 3 D Ecken“ zur Verfügung und beantworten auch gerne alle Ihre Fragen. \nEröffnung des SHK-Shop Paulsen\, Abhol-Centers Rugenbarg in Norderstedt was last modified:  August 28th\, 2023 by
URL:https://hamburg-plumbers.de/veranstaltung/mabo-sanitec-gmbh-bei-peter-jensen-im-abholterminal-kiel/
LOCATION:Peter Jensen Abholterminal Kiel\, Tonberg 25\, Kiel\, Schleswig-Holstein \, 24113\, Deutschland
END:VEVENT
BEGIN:VEVENT
DTSTART;TZID=Europe/Berlin:20190404T070000
DTEND;TZID=Europe/Berlin:20190404T160000
DTSTAMP:20260421T064817
CREATED:20190327T194212Z
LAST-MODIFIED:20190327T194212Z
UID:2838-1554361200-1554393600@hamburg-plumbers.de
SUMMARY:DAB bei Peter Jensen im Abholterminal Rostock-West
DESCRIPTION:DAB bei Peter Jensen im Abholterminal Rostock-West\nAm Donnerstag den 04.04.2019\, ist DAB ab 07.00 Uhr bei Peter Jensen im Abholterminal in der Straße „Am Fischereihafen 1a″  in Rostock-West. Den ganzen Tag stehen Ihnen fachkundige Berater des Herstellers zum Thema „DAB Pumpen“ zur Verfügung und beantworten auch gerne alle Ihre Fragen. \nEröffnung des SHK-Shop Paulsen\, Abhol-Centers Rugenbarg in Norderstedt was last modified:  August 28th\, 2023 by
URL:https://hamburg-plumbers.de/veranstaltung/dab-bei-peter-jensen-im-abholterminal-rostock-west/
LOCATION:Peter Jensen\, Abholterminal Rostock-West\, Am Fischereihafen 1\, Rostock-Marienehe\, Mecklenburg-Vorpommern\, 18069\, Deutschland
END:VEVENT
END:VCALENDAR