BEGIN:VCALENDAR
VERSION:2.0
PRODID:-//Hamburg Plumbers - ECPv6.6.1//NONSGML v1.0//EN
CALSCALE:GREGORIAN
METHOD:PUBLISH
X-WR-CALNAME:Hamburg Plumbers
X-ORIGINAL-URL:https://hamburg-plumbers.de
X-WR-CALDESC:Veranstaltungen für Hamburg Plumbers
REFRESH-INTERVAL;VALUE=DURATION:PT1H
X-Robots-Tag:noindex
X-PUBLISHED-TTL:PT1H
BEGIN:VTIMEZONE
TZID:Europe/Berlin
BEGIN:DAYLIGHT
TZOFFSETFROM:+0100
TZOFFSETTO:+0200
TZNAME:CEST
DTSTART:20190331T010000
END:DAYLIGHT
BEGIN:STANDARD
TZOFFSETFROM:+0200
TZOFFSETTO:+0100
TZNAME:CET
DTSTART:20191027T010000
END:STANDARD
END:VTIMEZONE
BEGIN:VEVENT
DTSTART;TZID=Europe/Berlin:20190402T070000
DTEND;TZID=Europe/Berlin:20190402T160000
DTSTAMP:20260421T033110
CREATED:20190327T141533Z
LAST-MODIFIED:20190327T141533Z
UID:2764-1554188400-1554220800@hamburg-plumbers.de
SUMMARY:Doyma bei Peter Jensen im Abholterminal 1 in HH-City
DESCRIPTION:Doyma bei Peter Jensen im Abholterminal 1 in HH-City\nAm Dienstag den 02.04.2019\, ist Doyma ab 07.00 Uhr bei Peter Jensen im Abholterminal in der Borgfelder Straße 19 in Hamburg-Borgfelde. Den ganzen Tag stehen Ihnen fachkundige Berater des Herstellers zum Thema „Gesamtprogramm“ zur Verfügung und beantworten auch gerne alle Ihre Fragen. \nEröffnung des SHK-Shop Paulsen\, Abhol-Centers Rugenbarg in Norderstedt was last modified:  August 28th\, 2023 by
URL:https://hamburg-plumbers.de/veranstaltung/doyma-bei-peter-jensen-im-abholterminal-1-in-hh-city-3/
LOCATION:Peter Jensen Abholterminal 1\, Borgfelder Straße 19\, Hamburg\, Hamburg\, 20537\, Deutschland
END:VEVENT
BEGIN:VEVENT
DTSTART;TZID=Europe/Berlin:20190402T070000
DTEND;TZID=Europe/Berlin:20190402T160000
DTSTAMP:20260421T033110
CREATED:20190327T144133Z
LAST-MODIFIED:20190327T144133Z
UID:2770-1554188400-1554220800@hamburg-plumbers.de
SUMMARY:Honeywell bei Peter Jensen im Abholterminal 2 in HH-West
DESCRIPTION:Honeywell bei Peter Jensen im Abholterminal 2 in HH-West\nAm Dienstag den 02.04.2019\, ist Honeywell ab 07.00 Uhr bei Peter Jensen im Abholterminal 2 in der Vizelinstraße 10 in Hamburg-West. Den ganzen Tag stehen Ihnen fachkundige Berater des Herstellers zum Thema „Messeneuheiten“ zur Verfügung und beantworten auch gerne alle Ihre Fragen. \nEröffnung des SHK-Shop Paulsen\, Abhol-Centers Rugenbarg in Norderstedt was last modified:  August 28th\, 2023 by
URL:https://hamburg-plumbers.de/veranstaltung/honeywell-bei-peter-jensen-im-abholterminal-2-in-hh-west-2/
LOCATION:Peter Jensen Abholterminal 2\, Vizelinstraße 10\, Hamburg\, Hamburg\, 22529\, Deutschland
END:VEVENT
BEGIN:VEVENT
DTSTART;TZID=Europe/Berlin:20190402T070000
DTEND;TZID=Europe/Berlin:20190402T160000
DTSTAMP:20260421T033110
CREATED:20190327T162916Z
LAST-MODIFIED:20190327T162916Z
UID:2789-1554188400-1554220800@hamburg-plumbers.de
SUMMARY:KSB bei Peter Jensen im Abholterminal HH-Bergedorf
DESCRIPTION:KSB bei Peter Jensen im Abholterminal HH-Bergedorf\nAm Dienstag den 02.04.2019\, ist KSB ab 07.00 Uhr bei Peter Jensen im Abholterminal in der Straße „Weidenbaumsweg 65-67″ in HH-Bergedorf. Den ganzen Tag stehen Ihnen fachkundige Berater des Herstellers zum Thema „Pumpentechnik“  zur Verfügung und beantworten auch gerne alle Ihre Fragen. \nEröffnung des SHK-Shop Paulsen\, Abhol-Centers Rugenbarg in Norderstedt was last modified:  August 28th\, 2023 by
URL:https://hamburg-plumbers.de/veranstaltung/ksb-bei-peter-jensen-im-abholterminal-hh-bergedorf/
LOCATION:Peter Jensen – Abholterminal Bergedorf (Terminal 6)\, Weidenbaumsweg 65-67\, Hamburg-Bergedorf\, Hamburg\, 21035\, Deutschland
END:VEVENT
BEGIN:VEVENT
DTSTART;TZID=Europe/Berlin:20190402T070000
DTEND;TZID=Europe/Berlin:20190402T160000
DTSTAMP:20260421T033110
CREATED:20190327T171830Z
LAST-MODIFIED:20190327T171830Z
UID:2801-1554188400-1554220800@hamburg-plumbers.de
SUMMARY:DAB bei Peter Jensen im Abholterminal Schwerin
DESCRIPTION:DAB bei Peter Jensen im Abholterminal Schwerin\nAm Dienstag den 02.04.2019\, ist DAB ab 07.00 Uhr bei Peter Jensen im Abholterminal im Mittelweg 2 in Schwerin. Den ganzen Tag stehen Ihnen fachkundige Berater des Herstellers zum Thema „DAB Pumpen“ zur Verfügung und beantworten auch gerne alle Ihre Fragen. \nEröffnung des SHK-Shop Paulsen\, Abhol-Centers Rugenbarg in Norderstedt was last modified:  August 28th\, 2023 by
URL:https://hamburg-plumbers.de/veranstaltung/dab-bei-peter-jensen-im-abholterminal-schwerin/
LOCATION:Peter Jensen – Abholterminal Schwerin\, Mittelweg 2\, Schwerin\, Mecklenburg Vorpommern \, 19059\, Deutschland
END:VEVENT
END:VCALENDAR