BEGIN:VCALENDAR
VERSION:2.0
PRODID:-//Hamburg Plumbers - ECPv6.6.1//NONSGML v1.0//EN
CALSCALE:GREGORIAN
METHOD:PUBLISH
X-WR-CALNAME:Hamburg Plumbers
X-ORIGINAL-URL:https://hamburg-plumbers.de
X-WR-CALDESC:Veranstaltungen für Hamburg Plumbers
REFRESH-INTERVAL;VALUE=DURATION:PT1H
X-Robots-Tag:noindex
X-PUBLISHED-TTL:PT1H
BEGIN:VTIMEZONE
TZID:Europe/Berlin
BEGIN:DAYLIGHT
TZOFFSETFROM:+0100
TZOFFSETTO:+0200
TZNAME:CEST
DTSTART:20190331T010000
END:DAYLIGHT
BEGIN:STANDARD
TZOFFSETFROM:+0200
TZOFFSETTO:+0100
TZNAME:CET
DTSTART:20191027T010000
END:STANDARD
END:VTIMEZONE
BEGIN:VEVENT
DTSTART;TZID=Europe/Berlin:20190328T070000
DTEND;TZID=Europe/Berlin:20190328T160000
DTSTAMP:20260420T230607
CREATED:20190305T165517Z
LAST-MODIFIED:20190305T165517Z
UID:2699-1553756400-1553788800@hamburg-plumbers.de
SUMMARY:Doyma bei Peter Jensen im Abholterminal 3 in HH-Ost
DESCRIPTION:Doyma bei Peter Jensen im Abholterminal 3 in HH-Ost\nAm Donnerstag den 28.03.2019\, ist Doyma ab 07.00 Uhr bei Peter Jensen im Abholterminal im Heestweg 41 in Hamburg-Rahlstedt. Den ganzen Tag stehen Ihnen fachkundige Berater des Herstellers zum Thema „Gesamtprogramm“ zur Verfügung und beantworten auch gerne alle Ihre Fragen. \nEröffnung des SHK-Shop Paulsen\, Abhol-Centers Rugenbarg in Norderstedt was last modified:  August 28th\, 2023 by
URL:https://hamburg-plumbers.de/veranstaltung/doyma-bei-peter-jensen-im-abholterminal-3-in-hh-ost/
LOCATION:Peter Jensen – Abholterminal 3 in HH-Ost\, Heestweg 41\, Hamburg\, Hamburg\, 22143\, Deutschland
END:VEVENT
BEGIN:VEVENT
DTSTART;TZID=Europe/Berlin:20190328T070000
DTEND;TZID=Europe/Berlin:20190328T160000
DTSTAMP:20260420T230607
CREATED:20190305T175621Z
LAST-MODIFIED:20190305T175621Z
UID:2707-1553756400-1553788800@hamburg-plumbers.de
SUMMARY:Mabo Sanitec GmbH bei Peter Jensen im Abholterminal Itzehoe
DESCRIPTION:Mabo Sanitec GmbH bei Peter Jensen im Abholterminal Itzehoe\nAm Donnerstag den 28.03.2019\, ist Mabo Sanitec GmbH ab 07.00 Uhr bei Peter Jensen im Abholterminal in der Straße „Am Brookhafen 14“ in Itzehoe. Den ganzen Tag stehen Ihnen fachkundige Berater des Herstellers zum Thema „Wannendichtung 3D Ecken“ zur Verfügung und beantworten auch gerne alle Ihre Fragen. \nEröffnung des SHK-Shop Paulsen\, Abhol-Centers Rugenbarg in Norderstedt was last modified:  August 28th\, 2023 by
URL:https://hamburg-plumbers.de/veranstaltung/mabo-sanitec-gmbh-bei-peter-jensen-im-abholterminal-itzehoe/
LOCATION:Peter Jensen Abholterminal Itzehoe\, Am Brookhafen 14\, Itzehoe \, Schleswig-Holstein \, 25524\, Deutschland
END:VEVENT
END:VCALENDAR