BEGIN:VCALENDAR
VERSION:2.0
PRODID:-//Hamburg Plumbers - ECPv6.6.1//NONSGML v1.0//EN
CALSCALE:GREGORIAN
METHOD:PUBLISH
X-ORIGINAL-URL:https://hamburg-plumbers.de
X-WR-CALDESC:Veranstaltungen für Hamburg Plumbers
REFRESH-INTERVAL;VALUE=DURATION:PT1H
X-Robots-Tag:noindex
X-PUBLISHED-TTL:PT1H
BEGIN:VTIMEZONE
TZID:Europe/Berlin
BEGIN:DAYLIGHT
TZOFFSETFROM:+0100
TZOFFSETTO:+0200
TZNAME:CEST
DTSTART:20190331T010000
END:DAYLIGHT
BEGIN:STANDARD
TZOFFSETFROM:+0200
TZOFFSETTO:+0100
TZNAME:CET
DTSTART:20191027T010000
END:STANDARD
END:VTIMEZONE
BEGIN:VEVENT
DTSTART;TZID=Europe/Berlin:20190319T070000
DTEND;TZID=Europe/Berlin:20190319T160000
DTSTAMP:20260420T141011
CREATED:20190305T161807Z
LAST-MODIFIED:20190305T161807Z
UID:2691-1552978800-1553011200@hamburg-plumbers.de
SUMMARY:KSB bei Peter Jensen im Abholterminal 1 in HH-City
DESCRIPTION:KSB bei Peter Jensen im Abholterminal 1 in HH-City\nAm Dienstag den 19.03.2019\, ist KSB ab 07.00 Uhr bei Peter Jensen im Abholterminal in der Borgfelder Straße 19 in Hamburg-Borgfelde. Den ganzen Tag stehen Ihnen fachkundige Berater des Herstellers zum Thema „Pumpentechnik“ zur Verfügung und beantworten auch gerne alle Ihre Fragen. \nEröffnung des SHK-Shop Paulsen\, Abhol-Centers Rugenbarg in Norderstedt was last modified:  August 28th\, 2023 by
URL:https://hamburg-plumbers.de/veranstaltung/ksb-bei-peter-jensen-im-abholterminal-1-in-hh-city/
LOCATION:Peter Jensen Abholterminal 1\, Borgfelder Straße 19\, Hamburg\, Hamburg\, 20537\, Deutschland
END:VEVENT
BEGIN:VEVENT
DTSTART;TZID=Europe/Berlin:20190319T070000
DTEND;TZID=Europe/Berlin:20190319T160000
DTSTAMP:20260420T141011
CREATED:20190305T172310Z
LAST-MODIFIED:20190305T172310Z
UID:2705-1552978800-1553011200@hamburg-plumbers.de
SUMMARY:Isiflo bei Peter Jensen im Abholterminal Hannover
DESCRIPTION:Isiflo bei Peter Jensen im Abholterminal Hannover\nAm Dienstag\, 19.03.2019\, ist Isiflo ab 07.00 Uhr bei Peter Jensen im Abholterminal in der Möckernstraße31 in Hannover. Den ganzen Tag stehen Ihnen fachkundige Berater des Herstellers zum Thema „Aktuelles Lagerprogramm“ zur Verfügung und beantworten auch gerne alle Ihre Fragen. \nEröffnung des SHK-Shop Paulsen\, Abhol-Centers Rugenbarg in Norderstedt was last modified:  August 28th\, 2023 by
URL:https://hamburg-plumbers.de/veranstaltung/isiflo-bei-peter-jensen-im-abholterminal-hannover/
LOCATION:Peter Jensen\, Abholterminal Hannover\, Möckernstraße 31\, Hannover\, Niedersachsen\, 30163\, Deutschland
END:VEVENT
BEGIN:VEVENT
DTSTART;TZID=Europe/Berlin:20190319T070000
DTEND;TZID=Europe/Berlin:20190319T160000
DTSTAMP:20260420T141011
CREATED:20190305T200344Z
LAST-MODIFIED:20190305T200926Z
UID:2744-1552978800-1553011200@hamburg-plumbers.de
SUMMARY:G. Bee GmbH bei Peter Jensen im Abholterminal Rostock-West
DESCRIPTION:G. Bee GmbH bei Peter Jensen im Abholterminal Rostock-West\nAm Dienstag den 19.03.2019\, ist G. Bee GmbH ab 07.00 Uhr bei Peter Jensen im Abholterminal in der Straße „Am Fischereihafen 1a″  in Rostock-West. Den ganzen Tag stehen Ihnen fachkundige Berater des Herstellers zum Thema „Kugelhähne“ zur Verfügung und beantworten auch gerne alle Ihre Fragen. \nEröffnung des SHK-Shop Paulsen\, Abhol-Centers Rugenbarg in Norderstedt was last modified:  August 28th\, 2023 by
URL:https://hamburg-plumbers.de/veranstaltung/g-bee-gmbh-bei-peter-jensen-im-abholterminal-rostock-west/
LOCATION:Peter Jensen\, Abholterminal Rostock-West\, Am Fischereihafen 1\, Rostock-Marienehe\, Mecklenburg-Vorpommern\, 18069\, Deutschland
END:VEVENT
END:VCALENDAR