BEGIN:VCALENDAR
VERSION:2.0
PRODID:-//Hamburg Plumbers - ECPv6.6.1//NONSGML v1.0//EN
CALSCALE:GREGORIAN
METHOD:PUBLISH
X-WR-CALNAME:Hamburg Plumbers
X-ORIGINAL-URL:https://hamburg-plumbers.de
X-WR-CALDESC:Veranstaltungen für Hamburg Plumbers
REFRESH-INTERVAL;VALUE=DURATION:PT1H
X-Robots-Tag:noindex
X-PUBLISHED-TTL:PT1H
BEGIN:VTIMEZONE
TZID:Europe/Berlin
BEGIN:DAYLIGHT
TZOFFSETFROM:+0100
TZOFFSETTO:+0200
TZNAME:CEST
DTSTART:20190331T010000
END:DAYLIGHT
BEGIN:STANDARD
TZOFFSETFROM:+0200
TZOFFSETTO:+0100
TZNAME:CET
DTSTART:20191027T010000
END:STANDARD
END:VTIMEZONE
BEGIN:VEVENT
DTSTART;TZID=Europe/Berlin:20190313T070000
DTEND;TZID=Europe/Berlin:20190313T160000
DTSTAMP:20260420T093517
CREATED:20190305T194934Z
LAST-MODIFIED:20190305T194934Z
UID:2736-1552460400-1552492800@hamburg-plumbers.de
SUMMARY:Wilo bei Peter Jensen im Abholterminal Schleswig
DESCRIPTION:Wilo bei Peter Jensen im Abholterminal Schleswig\nAm Mittwoch den 13.03.2019\, ist Wilo ab 07.00 Uhr bei Peter Jensen im Abholterminal in der Heinrich-Hertz-Straße 41 in Schleswig. Den ganzen Tag stehen Ihnen fachkundige Berater des Herstellers zum Thema „Pumpen / Lagerprogramm“ zur Verfügung und beantworten auch gerne alle Ihre Fragen. \nEröffnung des SHK-Shop Paulsen\, Abhol-Centers Rugenbarg in Norderstedt was last modified:  August 28th\, 2023 by
URL:https://hamburg-plumbers.de/veranstaltung/wilo-bei-peter-jensen-im-abholterminal-schleswig/
LOCATION:Peter Jensen Abholterminal Schleswig\, Heinrich-Hertz-Straße 42\, Schleswig \, Schleswig-Holstein \, 24837\, Deutschland
END:VEVENT
BEGIN:VEVENT
DTSTART;TZID=Europe/Berlin:20190313T070000
DTEND;TZID=Europe/Berlin:20190313T160000
DTSTAMP:20260420T093517
CREATED:20190305T195225Z
LAST-MODIFIED:20190305T195225Z
UID:2738-1552460400-1552492800@hamburg-plumbers.de
SUMMARY:Wavin bei Peter Jensen im Abholterminal Schleswig
DESCRIPTION:Wavin bei Peter Jensen im Abholterminal Schleswig\nAm Mittwoch den 13.03.2019\, ist Wavin ab 07.00 Uhr bei Peter Jensen im Abholterminal in der Heinrich-Hertz-Straße 41 in Schleswig. Den ganzen Tag stehen Ihnen fachkundige Berater des Herstellers zum Thema „Haustechnik“ zur Verfügung und beantworten auch gerne alle Ihre Fragen. \nEröffnung des SHK-Shop Paulsen\, Abhol-Centers Rugenbarg in Norderstedt was last modified:  August 28th\, 2023 by
URL:https://hamburg-plumbers.de/veranstaltung/wavin-bei-peter-jensen-im-abholterminal-schleswig/
LOCATION:Peter Jensen Abholterminal Schleswig\, Heinrich-Hertz-Straße 42\, Schleswig \, Schleswig-Holstein \, 24837\, Deutschland
END:VEVENT
END:VCALENDAR