BEGIN:VCALENDAR
VERSION:2.0
PRODID:-//Hamburg Plumbers - ECPv6.6.1//NONSGML v1.0//EN
CALSCALE:GREGORIAN
METHOD:PUBLISH
X-WR-CALNAME:Hamburg Plumbers
X-ORIGINAL-URL:https://hamburg-plumbers.de
X-WR-CALDESC:Veranstaltungen für Hamburg Plumbers
REFRESH-INTERVAL;VALUE=DURATION:PT1H
X-Robots-Tag:noindex
X-PUBLISHED-TTL:PT1H
BEGIN:VTIMEZONE
TZID:Europe/Berlin
BEGIN:DAYLIGHT
TZOFFSETFROM:+0100
TZOFFSETTO:+0200
TZNAME:CEST
DTSTART:20190331T010000
END:DAYLIGHT
BEGIN:STANDARD
TZOFFSETFROM:+0200
TZOFFSETTO:+0100
TZNAME:CET
DTSTART:20191027T010000
END:STANDARD
END:VTIMEZONE
BEGIN:VEVENT
DTSTART;TZID=Europe/Berlin:20190307T070000
DTEND;TZID=Europe/Berlin:20190307T160000
DTSTAMP:20260420T061053
CREATED:20190305T162530Z
LAST-MODIFIED:20190305T162530Z
UID:2693-1551942000-1551974400@hamburg-plumbers.de
SUMMARY:Doyma bei Peter Jensen im Abholterminal 2 in HH-West
DESCRIPTION:Doyma bei Peter Jensen im Abholterminal 2 in HH-West\nAm Donnerstag den 07.03.2019\, ist Doyma ab 07.00 Uhr bei Peter Jensen im Abholterminal 2 in der Vizelinstraße 10 in Hamburg-West. Den ganzen Tag stehen Ihnen fachkundige Berater des Herstellers zum Thema „Gesamtprogramm“ zur Verfügung und beantworten auch gerne alle Ihre Fragen. \nEröffnung des SHK-Shop Paulsen\, Abhol-Centers Rugenbarg in Norderstedt was last modified:  August 28th\, 2023 by
URL:https://hamburg-plumbers.de/veranstaltung/doyma-bei-peter-jensen-im-abholterminal-2-in-hh-west/
LOCATION:Peter Jensen Abholterminal 2\, Vizelinstraße 10\, Hamburg\, Hamburg\, 22529\, Deutschland
END:VEVENT
BEGIN:VEVENT
DTSTART;TZID=Europe/Berlin:20190307T070000
DTEND;TZID=Europe/Berlin:20190307T160000
DTSTAMP:20260420T061053
CREATED:20190305T192800Z
LAST-MODIFIED:20190305T192800Z
UID:2726-1551942000-1551974400@hamburg-plumbers.de
SUMMARY:KSB bei Peter Jensen im Abholterminal Neumünster
DESCRIPTION:KSB bei Peter Jensen im Abholterminal Neumünster\nAm Donnerstag den 07.03.2019\, ist KSB ab 07.00 Uhr bei Peter Jensen in der Straße „Haart 101“ in Neumünster. Den ganzen Tag stehen Ihnen fachkundige Berater des Herstellers zum Thema „Pumpentechnik“ zur Verfügung und beantworten auch gerne alle Ihre Fragen. \nEröffnung des SHK-Shop Paulsen\, Abhol-Centers Rugenbarg in Norderstedt was last modified:  August 28th\, 2023 by
URL:https://hamburg-plumbers.de/veranstaltung/ksb-bei-peter-jensen-im-abholterminal-neumuenster/
LOCATION:Peter Jensen im Abholterminal Neumünster\, Haart 101\, Nuemünster\, Schleswig-Holstein\, 24539\, Deutschland
END:VEVENT
END:VCALENDAR