BEGIN:VCALENDAR
VERSION:2.0
PRODID:-//Hamburg Plumbers - ECPv6.6.1//NONSGML v1.0//EN
CALSCALE:GREGORIAN
METHOD:PUBLISH
X-WR-CALNAME:Hamburg Plumbers
X-ORIGINAL-URL:https://hamburg-plumbers.de
X-WR-CALDESC:Veranstaltungen für Hamburg Plumbers
REFRESH-INTERVAL;VALUE=DURATION:PT1H
X-Robots-Tag:noindex
X-PUBLISHED-TTL:PT1H
BEGIN:VTIMEZONE
TZID:Europe/Berlin
BEGIN:DAYLIGHT
TZOFFSETFROM:+0100
TZOFFSETTO:+0200
TZNAME:CEST
DTSTART:20190331T010000
END:DAYLIGHT
BEGIN:STANDARD
TZOFFSETFROM:+0200
TZOFFSETTO:+0100
TZNAME:CET
DTSTART:20191027T010000
END:STANDARD
END:VTIMEZONE
BEGIN:VEVENT
DTSTART;TZID=Europe/Berlin:20190306T070000
DTEND;TZID=Europe/Berlin:20190306T160000
DTSTAMP:20260420T043117
CREATED:20190305T193735Z
LAST-MODIFIED:20190305T193735Z
UID:2730-1551855600-1551888000@hamburg-plumbers.de
SUMMARY:Atec bei Peter Jensen im Abholterminal Wittenberge
DESCRIPTION:Atec bei Peter Jensen im Abholterminal Wittenberge\nAm Mittwoch den 06.03.2019\, ist Atec ab 07.00 Uhr bei Peter Jensen im Abholterminal in der Lenzener Straße 39-41 in Wittenberge. Den ganzen Tag stehen Ihnen fachkundige Berater des Herstellers zum Thema „Abgastechnologie“ zur Verfügung und beantworten auch gerne alle Ihre Fragen. \nEröffnung des SHK-Shop Paulsen\, Abhol-Centers Rugenbarg in Norderstedt was last modified:  August 28th\, 2023 by
URL:https://hamburg-plumbers.de/veranstaltung/atec-bei-peter-jensen-im-abholterminal-wittenberge/
LOCATION:Peter Jensen Abholterminal Wittenberge\, Lenzener Straße 39-41\, Wittenberge\, Brandenburg \, 19322\, Deutschland
END:VEVENT
BEGIN:VEVENT
DTSTART;TZID=Europe/Berlin:20190306T070000
DTEND;TZID=Europe/Berlin:20190306T160000
DTSTAMP:20260420T043117
CREATED:20190305T202717Z
LAST-MODIFIED:20190305T203222Z
UID:2755-1551855600-1551888000@hamburg-plumbers.de
SUMMARY:Atec bei Peter Jensen im Abholterminal Stralsund
DESCRIPTION:Atec bei Peter Jensen im Abholterminal Stralsund\nAm Mittwoch den 06.03.2019\, ist Atec ab 07.00 Uhr bei Peter Jensen im Abholterminal in der Barther Straße 64e  in Stralsund. Den ganzen Tag stehen Ihnen fachkundige Berater des Herstellers zum Thema „Abgastechnologie“ zur Verfügung und beantworten auch gerne alle Ihre Fragen. \nEröffnung des SHK-Shop Paulsen\, Abhol-Centers Rugenbarg in Norderstedt was last modified:  August 28th\, 2023 by
URL:https://hamburg-plumbers.de/veranstaltung/atec-bei-peter-jensen-im-abholterminal-stralsund/
LOCATION:Peter Jensen Abholterminal Stralsund\, Barther Straße 64e\, Stralsund\, Mecklenburg-Vorpommern\, 18437\, Deutschland
END:VEVENT
END:VCALENDAR