BEGIN:VCALENDAR
VERSION:2.0
PRODID:-//Hamburg Plumbers - ECPv6.6.1//NONSGML v1.0//EN
CALSCALE:GREGORIAN
METHOD:PUBLISH
X-WR-CALNAME:Hamburg Plumbers
X-ORIGINAL-URL:https://hamburg-plumbers.de
X-WR-CALDESC:Veranstaltungen für Hamburg Plumbers
REFRESH-INTERVAL;VALUE=DURATION:PT1H
X-Robots-Tag:noindex
X-PUBLISHED-TTL:PT1H
BEGIN:VTIMEZONE
TZID:Europe/Berlin
BEGIN:DAYLIGHT
TZOFFSETFROM:+0100
TZOFFSETTO:+0200
TZNAME:CEST
DTSTART:20190331T010000
END:DAYLIGHT
BEGIN:STANDARD
TZOFFSETFROM:+0200
TZOFFSETTO:+0100
TZNAME:CET
DTSTART:20191027T010000
END:STANDARD
END:VTIMEZONE
BEGIN:VEVENT
DTSTART;TZID=Europe/Berlin:20190228T070000
DTEND;TZID=Europe/Berlin:20190228T160000
DTSTAMP:20260420T000322
CREATED:20190208T104133Z
LAST-MODIFIED:20190208T104133Z
UID:2620-1551337200-1551369600@hamburg-plumbers.de
SUMMARY:Mabo Sanitec GmbH bei Peter Jensen im Abholterminal 2 in HH-West
DESCRIPTION:Mabo Sanitec GmbH bei Peter Jensen im Abholterminal 2 in HH-West\nAm Donnerstag den 28.02.2019\, ist Mabo Sanitec GmbH ab 07.00 Uhr bei Peter Jensen im Abholterminal 2 in der Vizelinstraße 10 in Hamburg-West. Den ganzen Tag stehen Ihnen fachkundige Berater des Herstellers zum Thema „Wannendichtung 3D Ecken“ zur Verfügung und beantworten auch gerne alle Ihre Fragen. \nEröffnung des SHK-Shop Paulsen\, Abhol-Centers Rugenbarg in Norderstedt was last modified:  August 28th\, 2023 by
URL:https://hamburg-plumbers.de/veranstaltung/mabo-sanitec-gmbh-bei-peter-jensen-im-abholterminal-2-in-hh-west/
LOCATION:Peter Jensen Abholterminal 2\, Vizelinstraße 10\, Hamburg\, Hamburg\, 22529\, Deutschland
END:VEVENT
BEGIN:VEVENT
DTSTART;TZID=Europe/Berlin:20190228T070000
DTEND;TZID=Europe/Berlin:20190228T160000
DTSTAMP:20260420T000322
CREATED:20190208T110050Z
LAST-MODIFIED:20190208T110050Z
UID:2628-1551337200-1551369600@hamburg-plumbers.de
SUMMARY:Doyma bei Peter Jensen im Abholterminal Itzehoe
DESCRIPTION:Doyma bei Peter Jensen im Abholterminal Itzehoe\nAm Donnerstag den 28.02.2019\, ist Doyma ab 07.00 Uhr bei Peter Jensen im Abholterminal in der Straße „Am Brookhafen 14“ in Itzehoe. Den ganzen Tag stehen Ihnen fachkundige Berater des Herstellers zum Thema „Gesamtprogramm“ zur Verfügung und beantworten auch gerne alle Ihre Fragen. \nEröffnung des SHK-Shop Paulsen\, Abhol-Centers Rugenbarg in Norderstedt was last modified:  August 28th\, 2023 by
URL:https://hamburg-plumbers.de/veranstaltung/doyma-bei-peter-jensen-im-abholterminal-itzehoe/
LOCATION:Peter Jensen Abholterminal Itzehoe\, Am Brookhafen 14\, Itzehoe \, Schleswig-Holstein \, 25524\, Deutschland
END:VEVENT
BEGIN:VEVENT
DTSTART;TZID=Europe/Berlin:20190228T070000
DTEND;TZID=Europe/Berlin:20190228T160000
DTSTAMP:20260420T000322
CREATED:20190208T121606Z
LAST-MODIFIED:20190208T121606Z
UID:2651-1551337200-1551369600@hamburg-plumbers.de
SUMMARY:Atec bei Peter Jensen im Abholterminal Schwerin
DESCRIPTION:Atec bei Peter Jensen im Abholterminal Schwerin\nAm Donnerstag den 28.02.2019\, ist Atec ab 07.00 Uhr bei Peter Jensen im Abholterminal im Mittelweg 2 in Schwerin. Den ganzen Tag stehen Ihnen fachkundige Berater des Herstellers zum Thema „Abgastechnologie“ zur Verfügung und beantworten auch gerne alle Ihre Fragen. \n\n\nEröffnung des SHK-Shop Paulsen\, Abhol-Centers Rugenbarg in Norderstedt was last modified:  August 28th\, 2023 by
URL:https://hamburg-plumbers.de/veranstaltung/atec-bei-peter-jensen-im-abholterminal-schwerin/
LOCATION:Peter Jensen – Abholterminal Schwerin\, Mittelweg 2\, Schwerin\, Mecklenburg Vorpommern \, 19059\, Deutschland
END:VEVENT
END:VCALENDAR