BEGIN:VCALENDAR
VERSION:2.0
PRODID:-//Hamburg Plumbers - ECPv6.6.1//NONSGML v1.0//EN
CALSCALE:GREGORIAN
METHOD:PUBLISH
X-WR-CALNAME:Hamburg Plumbers
X-ORIGINAL-URL:https://hamburg-plumbers.de
X-WR-CALDESC:Veranstaltungen für Hamburg Plumbers
REFRESH-INTERVAL;VALUE=DURATION:PT1H
X-Robots-Tag:noindex
X-PUBLISHED-TTL:PT1H
BEGIN:VTIMEZONE
TZID:Europe/Berlin
BEGIN:DAYLIGHT
TZOFFSETFROM:+0100
TZOFFSETTO:+0200
TZNAME:CEST
DTSTART:20190331T010000
END:DAYLIGHT
BEGIN:STANDARD
TZOFFSETFROM:+0200
TZOFFSETTO:+0100
TZNAME:CET
DTSTART:20191027T010000
END:STANDARD
END:VTIMEZONE
BEGIN:VEVENT
DTSTART;TZID=Europe/Berlin:20190220T070000
DTEND;TZID=Europe/Berlin:20190220T160000
DTSTAMP:20260420T000305
CREATED:20190208T105740Z
LAST-MODIFIED:20190208T105740Z
UID:2626-1550646000-1550678400@hamburg-plumbers.de
SUMMARY:KSB bei Peter Jensen im Abholterminal Itzehoe
DESCRIPTION:KSB bei Peter Jensen im Abholterminal Itzehoe\nAm Mittwoch den 20.02.2019\, ist KSB ab 07.00 Uhr bei Peter Jensen im Abholterminal in der Straße „Am Brookhafen 14“ in Itzehoe. Den ganzen Tag stehen Ihnen fachkundige Berater des Herstellers zum Thema „Pumpentechnik“ zur Verfügung und beantworten auch gerne alle Ihre Fragen. \nEröffnung des SHK-Shop Paulsen\, Abhol-Centers Rugenbarg in Norderstedt was last modified:  August 28th\, 2023 by
URL:https://hamburg-plumbers.de/veranstaltung/ksb-bei-peter-jensen-im-abholterminal-itzehoe/
LOCATION:Peter Jensen Abholterminal Itzehoe\, Am Brookhafen 14\, Itzehoe \, Schleswig-Holstein \, 25524\, Deutschland
END:VEVENT
BEGIN:VEVENT
DTSTART;TZID=Europe/Berlin:20190220T070000
DTEND;TZID=Europe/Berlin:20190220T160000
DTSTAMP:20260420T000305
CREATED:20190208T114441Z
LAST-MODIFIED:20190208T114441Z
UID:2636-1550646000-1550678400@hamburg-plumbers.de
SUMMARY:G. Bee GmbH bei Peter Jensen im Abholterminal Lübeck
DESCRIPTION:G. Bee GmbH bei Peter Jensen im Abholterminal Lübeck \nAm Mittwoch den 20.02.2019\, ist G. Bee GmbH ab 07.00 Uhr bei Peter Jensen im Abholterminal in der Straße „Bei der Gasanstalt 3a“ in Lübeck (Genin). Den ganzen Tag stehen Ihnen fachkundige Berater des Herstellers zum Thema „Kugelhähne Comfort“ zur Verfügung und beantworten auch gerne alle Ihre Fragen. \nEröffnung des SHK-Shop Paulsen\, Abhol-Centers Rugenbarg in Norderstedt was last modified:  August 28th\, 2023 by
URL:https://hamburg-plumbers.de/veranstaltung/g-bee-gmbh-bei-peter-jensen-im-abholterminal-luebeck/
LOCATION:bei Peter Jensen\, Abholterminal Lübeck\, Bei der Gasanstalt 3a\, Lübeck\, Schleswig-Holstein\, 23560\, Deutschland
END:VEVENT
END:VCALENDAR