BEGIN:VCALENDAR
VERSION:2.0
PRODID:-//Hamburg Plumbers - ECPv6.6.1//NONSGML v1.0//EN
CALSCALE:GREGORIAN
METHOD:PUBLISH
X-WR-CALNAME:Hamburg Plumbers
X-ORIGINAL-URL:https://hamburg-plumbers.de
X-WR-CALDESC:Veranstaltungen für Hamburg Plumbers
REFRESH-INTERVAL;VALUE=DURATION:PT1H
X-Robots-Tag:noindex
X-PUBLISHED-TTL:PT1H
BEGIN:VTIMEZONE
TZID:Europe/Berlin
BEGIN:DAYLIGHT
TZOFFSETFROM:+0100
TZOFFSETTO:+0200
TZNAME:CEST
DTSTART:20180325T010000
END:DAYLIGHT
BEGIN:STANDARD
TZOFFSETFROM:+0200
TZOFFSETTO:+0100
TZNAME:CET
DTSTART:20181028T010000
END:STANDARD
END:VTIMEZONE
BEGIN:VEVENT
DTSTART;TZID=Europe/Berlin:20181128T070000
DTEND;TZID=Europe/Berlin:20181128T160000
DTSTAMP:20260419T193910
CREATED:20181030T133834Z
LAST-MODIFIED:20181030T133834Z
UID:2513-1543388400-1543420800@hamburg-plumbers.de
SUMMARY:Grünbek bei Peter Jensen im Abholterminal Wismar
DESCRIPTION:Grünbek bei Peter Jensen im Abholterminal Wismar\nAm Mittwoch den 28.11.2018\, ist Grünbek ab 07.00 Uhr bei Peter Jensen im Abholterminal in der Straße „An der Westtangente 2″ in Wismar. Den ganzen Tag stehen Ihnen fachkundige Berater der Hersteller zum Thema „Trinkwasseraufbereitung“ zur Verfügung und beantworten auch gerne alle Ihre Fragen. \nEröffnung des SHK-Shop Paulsen\, Abhol-Centers Rugenbarg in Norderstedt was last modified:  August 28th\, 2023 by
URL:https://hamburg-plumbers.de/veranstaltung/gruenbek-bei-peter-jensen-im-abholterminal-wismar/
LOCATION:Peter Jensen\, Abholterminal Wismar\, An der Westtangente 2\, Wismar\, Mecklenburg-Vorpommern\, 23966\, Deutschland
END:VEVENT
BEGIN:VEVENT
DTSTART;TZID=Europe/Berlin:20181128T133000
DTEND;TZID=Europe/Berlin:20181128T150000
DTSTAMP:20260419T193910
CREATED:20181121T194011Z
LAST-MODIFIED:20181121T194011Z
UID:2563-1543411800-1543417200@hamburg-plumbers.de
SUMMARY:Honeywell im William Lindley Club der BS 13 (G2) in Hamburg (für Azubis)
DESCRIPTION:Honeywell im William Lindley Club der BS 13 (G2) Hamburg (für Azubis)\nDer Club für Neugierige Lehrlinge \nLiebe Schüler\, \nob Heizung\, Bad oder Solartechnik\, die Arbeit des Anlagenmechanikers SHK ändert sich durch die technische Entwicklung ständig. Will man als Fachmann immer am Ball bleiben\, um die technischen Veränderungen mitzubekommen\, muss man sich ständig fortbilden!\nDer G2-Club bietet für diese Fortbildung in unregelmäßigen Abständen kostenlose fachliche Veranstaltungen an. \nAm 28.11.2018 ist Honeywell mit dem Thema „hydraulischer Abgleich“ im William Lindley Club der BS 13! Die Veranstaltung geht von 13:45 Uhr bis ca. 15:00 Uhr und findet im Raum 101 der Berufsschule BS 13 statt. (Bundesstraße 58 in 20146 Hamburg.)\n \nBitte melde dich an\, da die Teilnehmerzahl begrenzt ist! \nAnmeldeliste liegt im Schulbüro aus. \n \nEröffnung des SHK-Shop Paulsen\, Abhol-Centers Rugenbarg in Norderstedt was last modified:  August 28th\, 2023 by
URL:https://hamburg-plumbers.de/veranstaltung/honeywell-im-william-lindley-club-der-bs-13-g2-in-hamburg-fuer-azubis/
LOCATION:William Lindley Schule BS 13\, Bundesstraße 58\, Hamburg\, Hamburg\, 20146\, Deutschland
END:VEVENT
END:VCALENDAR