BEGIN:VCALENDAR
VERSION:2.0
PRODID:-//Hamburg Plumbers - ECPv6.6.1//NONSGML v1.0//EN
CALSCALE:GREGORIAN
METHOD:PUBLISH
X-ORIGINAL-URL:https://hamburg-plumbers.de
X-WR-CALDESC:Veranstaltungen für Hamburg Plumbers
REFRESH-INTERVAL;VALUE=DURATION:PT1H
X-Robots-Tag:noindex
X-PUBLISHED-TTL:PT1H
BEGIN:VTIMEZONE
TZID:Europe/Berlin
BEGIN:DAYLIGHT
TZOFFSETFROM:+0100
TZOFFSETTO:+0200
TZNAME:CEST
DTSTART:20180325T010000
END:DAYLIGHT
BEGIN:STANDARD
TZOFFSETFROM:+0200
TZOFFSETTO:+0100
TZNAME:CET
DTSTART:20181028T010000
END:STANDARD
END:VTIMEZONE
BEGIN:VEVENT
DTSTART;TZID=Europe/Berlin:20181114T070000
DTEND;TZID=Europe/Berlin:20181114T160000
DTSTAMP:20260419T195008
CREATED:20181030T130116Z
LAST-MODIFIED:20181030T130220Z
UID:2503-1542178800-1542211200@hamburg-plumbers.de
SUMMARY:SFA Sanibroy bei Peter Jensen im Abholterminal 3 in HH-Ost
DESCRIPTION:SFA Sanibroy bei Peter Jensen im Abholterminal 3 in HH-Ost\nAm Mittwoch den 14.11.2018\, ist SFA Sanibroy ab 07.00 Uhr bei Peter Jensen im Abholterminal im Heestweg 41 in Hamburg-Rahlstedt. Den ganzen Tag stehen Ihnen fachkundige Berater des Herstellers zum Thema „Schmutzwasserhebeanlagen“ zur Verfügung und beantworten auch gerne alle Ihre Fragen. \nEröffnung des SHK-Shop Paulsen\, Abhol-Centers Rugenbarg in Norderstedt was last modified:  August 28th\, 2023 by
URL:https://hamburg-plumbers.de/veranstaltung/sfa-sanibroy-bei-peter-jensen-im-abholterminal-3-in-hh-ost/
LOCATION:Peter Jensen – Abholterminal 3 in HH-Ost\, Heestweg 41\, Hamburg\, Hamburg\, 22143\, Deutschland
END:VEVENT
BEGIN:VEVENT
DTSTART;TZID=Europe/Berlin:20181114T070000
DTEND;TZID=Europe/Berlin:20181114T160000
DTSTAMP:20260419T195008
CREATED:20181030T191824Z
LAST-MODIFIED:20181030T191824Z
UID:2517-1542178800-1542211200@hamburg-plumbers.de
SUMMARY:Grünbek bei Peter Jensen im Abholterminal Rostock-Ost
DESCRIPTION:Grünbek bei Peter Jensen im Abholterminal Rostock-Ost\nAm Mittwoch den 14.11.2018\, ist Grünbek ab 07.00 Uhr bei Peter Jensen im Abholterminal in der Hansestraße 1  in Rostock-Ost. Den ganzen Tag stehen Ihnen fachkundige Berater des Herstellers zum Thema „Trinkwasseraufbereitung“ zur Verfügung und beantworten auch gerne alle Ihre Fragen. \nEröffnung des SHK-Shop Paulsen\, Abhol-Centers Rugenbarg in Norderstedt was last modified:  August 28th\, 2023 by
URL:https://hamburg-plumbers.de/veranstaltung/gruenbek-bei-peter-jensen-im-abholterminal-rostock-ost/
LOCATION:Peter Jensen – Abholterminal Rostock-Ost\, Hansestraße 1\, Rostock-Bentwisch\, Mecklemburg-Vorpommern\, 18182\, Deutschland
END:VEVENT
BEGIN:VEVENT
DTSTART;TZID=Europe/Berlin:20181114T070000
DTEND;TZID=Europe/Berlin:20181114T160000
DTSTAMP:20260419T195008
CREATED:20181030T192644Z
LAST-MODIFIED:20181030T192644Z
UID:2519-1542178800-1542211200@hamburg-plumbers.de
SUMMARY:Wolf bei Peter Jensen im Abholterminal Lüchow
DESCRIPTION:Wolf bei Peter Jensen im Abholterminal Lüchow\nAm Mittwoch den 14.11.2018\, ist Wolf ab 07.00 Uhr bei Peter Jensen im Abholterminal in der Straße „Berthold-Roggan-Ring 3“ in Lüchow. Den ganzen Tag stehen Ihnen fachkundige Berater des Herstellers zum Thema „Gesamtprogramm“ zur Verfügung und beantworten auch gerne alle Ihre Fragen. \nEröffnung des SHK-Shop Paulsen\, Abhol-Centers Rugenbarg in Norderstedt was last modified:  August 28th\, 2023 by
URL:https://hamburg-plumbers.de/veranstaltung/wolf-bei-peter-jensen-im-abholterminal-luechow/
LOCATION:Peter Jensen – Abholterminal Lüchow\,  Berthold-Roggan-Ring 3\, Lüchow \, Niedersachsen \, 29439\, Deutschland
END:VEVENT
BEGIN:VEVENT
DTSTART;TZID=Europe/Berlin:20181114T070000
DTEND;TZID=Europe/Berlin:20181114T160000
DTSTAMP:20260419T195008
CREATED:20181030T192929Z
LAST-MODIFIED:20181030T192929Z
UID:2521-1542178800-1542211200@hamburg-plumbers.de
SUMMARY:Wilo bei Peter Jensen im Abholterminal Lüchow
DESCRIPTION:Wilo bei Peter Jensen im Abholterminal Lüchow\nAm Mittwoch den 14.11.2018\, ist Wilo ab 07.00 Uhr bei Peter Jensen im Abholterminal in der Straße „Berthold-Roggan-Ring 3“ in Lüchow. Den ganzen Tag stehen Ihnen fachkundige Berater des Herstellers zum Thema „Gesamtprogramm“ zur Verfügung und beantworten auch gerne alle Ihre Fragen. \nEröffnung des SHK-Shop Paulsen\, Abhol-Centers Rugenbarg in Norderstedt was last modified:  August 28th\, 2023 by
URL:https://hamburg-plumbers.de/veranstaltung/wilo-bei-peter-jensen-im-abholterminal-luechow/
LOCATION:Peter Jensen – Abholterminal Lüchow\,  Berthold-Roggan-Ring 3\, Lüchow \, Niedersachsen \, 29439\, Deutschland
END:VEVENT
BEGIN:VEVENT
DTSTART;TZID=Europe/Berlin:20181114T070000
DTEND;TZID=Europe/Berlin:20181114T160000
DTSTAMP:20260419T195008
CREATED:20181030T195735Z
LAST-MODIFIED:20181030T195735Z
UID:2531-1542178800-1542211200@hamburg-plumbers.de
SUMMARY:Gebo bei Peter Jensen im Abholterminal Hannover
DESCRIPTION:Gebo bei Peter Jensen im Abholterminal Hannover\nAm Mittwoch den 14.11.2018\, ist Gebo ab 07.00 Uhr bei Peter Jensen im Abholterminal in der Möckernstraße31 in Hannover. Den ganzen Tag stehen Ihnen fachkundige Berater des Herstellers zum Thema „Dichtmittel & Trinkwasserdichtung“ zur Verfügung und beantworten auch gerne alle Ihre Fragen. \nEröffnung des SHK-Shop Paulsen\, Abhol-Centers Rugenbarg in Norderstedt was last modified:  August 28th\, 2023 by
URL:https://hamburg-plumbers.de/veranstaltung/gebo-bei-peter-jensen-im-abholterminal-hannover/
LOCATION:Peter Jensen\, Abholterminal Hannover\, Möckernstraße 31\, Hannover\, Niedersachsen\, 30163\, Deutschland
END:VEVENT
END:VCALENDAR