BEGIN:VCALENDAR
VERSION:2.0
PRODID:-//Hamburg Plumbers - ECPv6.6.1//NONSGML v1.0//EN
CALSCALE:GREGORIAN
METHOD:PUBLISH
X-WR-CALNAME:Hamburg Plumbers
X-ORIGINAL-URL:https://hamburg-plumbers.de
X-WR-CALDESC:Veranstaltungen für Hamburg Plumbers
REFRESH-INTERVAL;VALUE=DURATION:PT1H
X-Robots-Tag:noindex
X-PUBLISHED-TTL:PT1H
BEGIN:VTIMEZONE
TZID:Europe/Berlin
BEGIN:DAYLIGHT
TZOFFSETFROM:+0100
TZOFFSETTO:+0200
TZNAME:CEST
DTSTART:20180325T010000
END:DAYLIGHT
BEGIN:STANDARD
TZOFFSETFROM:+0200
TZOFFSETTO:+0100
TZNAME:CET
DTSTART:20181028T010000
END:STANDARD
END:VTIMEZONE
BEGIN:VEVENT
DTSTART;TZID=Europe/Berlin:20181113T070000
DTEND;TZID=Europe/Berlin:20181113T160000
DTSTAMP:20260419T195500
CREATED:20181030T132853Z
LAST-MODIFIED:20181030T132853Z
UID:2511-1542092400-1542124800@hamburg-plumbers.de
SUMMARY:SFA Sanibroy bei Peter Jensen im Abholterminal HH-Bergedorf
DESCRIPTION:SFA Sanibroy bei Peter Jensen im Abholterminal HH-Bergedorf\nAm Dienstag den 13.11.2018\, ist SFA Sanibroy ab 07.00 Uhr bei Peter Jensen im Abholterminal in der Straße „Weidenbaumsweg 65-67″ in HH-Bergedorf. Den ganzen Tag stehen Ihnen fachkundige Berater des Herstellers zum Thema „Schmutzwasserhebeanlagen“  zur Verfügung und beantworten auch gerne alle Ihre Fragen. \nEröffnung des SHK-Shop Paulsen\, Abhol-Centers Rugenbarg in Norderstedt was last modified:  August 28th\, 2023 by
URL:https://hamburg-plumbers.de/veranstaltung/sfa-sanibroy-bei-peter-jensen-im-abholterminal-hh-bergedorf/
LOCATION:Peter Jensen – Abholterminal Bergedorf (Terminal 6)\, Weidenbaumsweg 65-67\, Hamburg-Bergedorf\, Hamburg\, 21035\, Deutschland
END:VEVENT
BEGIN:VEVENT
DTSTART;TZID=Europe/Berlin:20181113T070000
DTEND;TZID=Europe/Berlin:20181113T160000
DTSTAMP:20260419T195500
CREATED:20181030T191331Z
LAST-MODIFIED:20181030T191331Z
UID:2515-1542092400-1542124800@hamburg-plumbers.de
SUMMARY:Grünbek bei Peter Jensen im Abholterminal Rostock West
DESCRIPTION:Grünbek bei Peter Jensen im Abholterminal Rostock West\nAm Dienstag\, 13.11.2018\, ist Grünbek ab 07.00 Uhr bei Peter Jensen im Abholterminal in der Straße „Am Fischereihafen 1a“ in Rostock West. Den ganzen Tag stehen Ihnen fachkundige Berater des Herstellers zum Thema „Trinkwasseraufbereitung“ zur Verfügung und beantworten auch gerne alle Ihre Fragen. \nEröffnung des SHK-Shop Paulsen\, Abhol-Centers Rugenbarg in Norderstedt was last modified:  August 28th\, 2023 by
URL:https://hamburg-plumbers.de/veranstaltung/gruenbek-bei-peter-jensen-im-abholterminal-rostock-west/
LOCATION:Peter Jensen\, Abholterminal Rostock-West\, Am Fischereihafen 1\, Rostock-Marienehe\, Mecklenburg-Vorpommern\, 18069\, Deutschland
END:VEVENT
BEGIN:VEVENT
DTSTART;TZID=Europe/Berlin:20181113T070000
DTEND;TZID=Europe/Berlin:20181113T160000
DTSTAMP:20260419T195500
CREATED:20181030T193624Z
LAST-MODIFIED:20181030T193624Z
UID:2523-1542092400-1542124800@hamburg-plumbers.de
SUMMARY:Wilo bei Peter Jensen im Abholterminal Salzwedel
DESCRIPTION:Wilo bei Peter Jensen im Abholterminal Salzwedel\nAm Dienstag den 13.11.2018\, ist Wilo ab 07.00 Uhr bei Peter Jensen im Abholterminal in der Schillerstraße 82 in Salzwedel. Den ganzen Tag stehen Ihnen fachkundige Berater des Herstellers zum Thema „Gesamtprogramm“ zur Verfügung und beantworten auch gerne alle Ihre Fragen.\n  \nEröffnung des SHK-Shop Paulsen\, Abhol-Centers Rugenbarg in Norderstedt was last modified:  August 28th\, 2023 by
URL:https://hamburg-plumbers.de/veranstaltung/wilo-bei-peter-jensen-im-abholterminal-salzwedel/
LOCATION:Peter Jensen Abholterminal – Salzwedel\, Schillerstraße 82\, Salzwedel\, Sachsen-Anhalt\, 29410\, Deutschland
END:VEVENT
BEGIN:VEVENT
DTSTART;TZID=Europe/Berlin:20181113T070000
DTEND;TZID=Europe/Berlin:20181113T160000
DTSTAMP:20260419T195500
CREATED:20181030T193919Z
LAST-MODIFIED:20181030T193919Z
UID:2525-1542092400-1542124800@hamburg-plumbers.de
SUMMARY:Wolf bei Peter Jensen im Abholterminal Salzwedel
DESCRIPTION:Wolf bei Peter Jensen im Abholterminal Salzwedel\n  \nAm Dienstag den 13.11.2018\, ist Wilo ab 07.00 Uhr bei Peter Jensen im Abholterminal in der Schillerstraße 82 in Salzwedel. Den ganzen Tag stehen Ihnen fachkundige Berater des Herstellers zum Thema „Gesamtprogramm“ zur Verfügung und beantworten auch gerne alle Ihre Fragen.\nEröffnung des SHK-Shop Paulsen\, Abhol-Centers Rugenbarg in Norderstedt was last modified:  August 28th\, 2023 by
URL:https://hamburg-plumbers.de/veranstaltung/wolf-bei-peter-jensen-im-abholterminal-salzwedel/
LOCATION:Peter Jensen Abholterminal – Salzwedel\, Schillerstraße 82\, Salzwedel\, Sachsen-Anhalt\, 29410\, Deutschland
END:VEVENT
BEGIN:VEVENT
DTSTART;TZID=Europe/Berlin:20181113T120000
DTEND;TZID=Europe/Berlin:20181113T170000
DTSTAMP:20260419T195500
CREATED:20181030T201831Z
LAST-MODIFIED:20181030T201831Z
UID:2535-1542110400-1542128400@hamburg-plumbers.de
SUMMARY:30 Jahre HERMANN STITZ ABEX Altona!!!
DESCRIPTION:30 Jahre HERMANN STITZ ABEX Altona!!!\nHey Kollegen! \nAm 13.11.2018 feiert das ABEX von HERMANN STITZ in Altona 30 Jähriges bestehen!!! Kommt von 12:00 – 17:00 Uhr in den Haferweg 42 in 22769 Hamburg und feiert mit!!! \nEröffnung des SHK-Shop Paulsen\, Abhol-Centers Rugenbarg in Norderstedt was last modified:  August 28th\, 2023 by
URL:https://hamburg-plumbers.de/veranstaltung/30-jahre-hermann-stitz-abex-altona/
LOCATION:Hermann Stitz ABEX Altona\, Haferweg 42\, Hamburg\, Hamburg\, 22769\, Deutschland
ATTACH;FMTTYPE=image/jpeg:https://hamburg-plumbers.de/wp-content/uploads/2018/10/191136DB-774F-4C0E-A0B1-0D2E8D8C547B.jpeg
END:VEVENT
END:VCALENDAR