BEGIN:VCALENDAR
VERSION:2.0
PRODID:-//Hamburg Plumbers - ECPv6.6.1//NONSGML v1.0//EN
CALSCALE:GREGORIAN
METHOD:PUBLISH
X-ORIGINAL-URL:https://hamburg-plumbers.de
X-WR-CALDESC:Veranstaltungen für Hamburg Plumbers
REFRESH-INTERVAL;VALUE=DURATION:PT1H
X-Robots-Tag:noindex
X-PUBLISHED-TTL:PT1H
BEGIN:VTIMEZONE
TZID:Europe/Berlin
BEGIN:DAYLIGHT
TZOFFSETFROM:+0100
TZOFFSETTO:+0200
TZNAME:CEST
DTSTART:20170326T010000
END:DAYLIGHT
BEGIN:STANDARD
TZOFFSETFROM:+0200
TZOFFSETTO:+0100
TZNAME:CET
DTSTART:20171029T010000
END:STANDARD
END:VTIMEZONE
BEGIN:VEVENT
DTSTART;TZID=Europe/Berlin:20171206T090000
DTEND;TZID=Europe/Berlin:20171206T163000
DTSTAMP:20260420T120642
CREATED:20171130T074642Z
LAST-MODIFIED:20171130T074642Z
UID:1786-1512550800-1512577800@hamburg-plumbers.de
SUMMARY:Seminar: Kontrollierte Wohnraumlüftung für Handwerker
DESCRIPTION:Kontrollierte Wohnraumlüftung für Handwerker \n\nMittwoch\, 06. December 2017 – 09:00 bis 16:30 \n\nMontage & Inbetriebnahme Aus der Praxis für die Praxis. Unter diesem Motto wird Ihnen alles Wichtige rund um die Projektierung\, Installation\, Inbetriebnahme und Wartung einer KWL®-Anlage vermittelt. \nInhalt und Ablauf\n· Wichtige Hinweise zur Projektierung von Lüftungsanlagen\n· Vermeidung von Montage- und Planungsfehlern (theoretisch)\n· Wichtige Hinweise zur Montage von Luftleitungssystemen\n· Inbetriebnahme und Einregulierung eines KWL®-Systems mit Wärmerückgewinnung\n· Wartung\, Reinigung und Inspektion eines KWL®-Systems\n· Elektrische Einstellungen der Regelungstechnik\n· Hinweise zu Montage- und Betriebsvorschriften\n· Fehlersuche und Fehlervermeidung \nTeilnehmerkreis:\nInstallateure\, Mitarbeiter von ausführenden Betrieben\, Architekten\, Fachplaner\, Wohnungsbaugesellschaften\, Bauträger\, Fertighaushersteller. \nVeranstaltungsort:\nHamburg (Der genaue Seminarort wird Ihnen ca. 10 Tage vor dem Termin per Mail zugesendet.) \nAblauf und unsere Leistungen:\n· 1-tägiges Fachseminar von 9:00 – 16:30 Uhr\n· Umfassende Schulungsunterlagen\n· Mittagessen\, Verpflegung \nAnmeldung:\nBitte füllen Sie die Online-Anmeldung aus. Ihre Anmeldung wird umgehend bearbeitet! Sie erhalten eine Buchungsbestätigung per E-Mail. \nStornierungsbedingungen:\nEine Stornierung bzw. Absage der Teilnahme ist bis 3 Tage vor dem Veranstaltungstag\nmöglich. Danach berechnen wir eine Stornierungsgebühr in Höhe von 100 EUR. \nInformationen  \n\n\n\nNummer\nHamburg_KWL2_49/17\n\n\nStatus\nWarteliste\n\n\nFreie Plätze\n0 *Ihre Buchung wird auf der Warteliste durchgeführt.\n\n\nAnmelde-schluss\n2017-12-01\, 12:00\n\n\nZielgruppe\nInstallateure\, Mitarbeiter von ausführenden Betrieben; Inbetriebnahme (Do): Architekten\, Fachplaner\, Wohnungsbaugesellschaften\, Bauträger\, Fertighaushersteller.\n\n\nBuchen Sie jetzt! \nLINK:\nHier gehts zur Buchung\n\n\n\n\n\n\nKostenlos\n\n\n\n\n\n\n\n\n\nEröffnung des SHK-Shop Paulsen\, Abhol-Centers Rugenbarg in Norderstedt was last modified:  August 28th\, 2023 by
URL:https://hamburg-plumbers.de/veranstaltung/seminar-kontrollierte-wohnraumlueftung-fuer-handwerker/
LOCATION:Helios Ventilatoren Büro NORD\, Technologiepark 24\, Trittau\, Schleswig-Holstein\, 22946\, Deutschland
END:VEVENT
END:VCALENDAR